BEGIN:VCALENDAR
VERSION:2.0
PRODID:-//ChamberMaster//Event Calendar 2.0//EN
METHOD:PUBLISH
X-PUBLISHED-TTL:P3D
REFRESH-INTERVAL:P3D
CALSCALE:GREGORIAN
BEGIN:VEVENT
DTSTART:20120723T180000Z
DTEND:20120723T200000Z
X-MICROSOFT-CDO-ALLDAYEVENT:FALSE
SUMMARY:Villeneuve Airport Joint Task Force Meeting
DESCRIPTION:Villeneuve Airport Joint Task Force Committee Meeting
X-ALT-DESC;FMTTYPE=text/html:Villeneuve Airport Joint Task Force Committee Meeting
LOCATION:St. Albert Inn & Suites - Ridgewood Room
UID:e.824.813
SEQUENCE:3
DTSTAMP:20260424T222650Z
URL:https://business.stalbertchamber.com/events/details/villeneuve-airport-joint-task-force-meeting-07-23-2012-813
END:VEVENT

END:VCALENDAR
