BEGIN:VCALENDAR
VERSION:2.0
PRODID:-//ChamberMaster//Event Calendar 2.0//EN
METHOD:PUBLISH
X-PUBLISHED-TTL:P3D
REFRESH-INTERVAL:P3D
CALSCALE:GREGORIAN
BEGIN:VEVENT
DTSTART;VALUE=DATE:20120531
DTEND;VALUE=DATE:20120601
TRANSP:TRANSPARENT
X-MICROSOFT-CDO-ALLDAYEVENT:TRUE
SUMMARY:Villeneuve Airport Joint Task Force Meeting
DESCRIPTION:
X-ALT-DESC;FMTTYPE=text/html:
LOCATION:
UID:e.824.805
SEQUENCE:3
DTSTAMP:20260425T010742Z
URL:https://business.stalbertchamber.com/events/details/villeneuve-airport-joint-task-force-meeting-05-31-2012-805
END:VEVENT

END:VCALENDAR
