BEGIN:VCALENDAR
VERSION:2.0
PRODID:-//ChamberMaster//Event Calendar 2.0//EN
METHOD:PUBLISH
X-PUBLISHED-TTL:P3D
REFRESH-INTERVAL:P3D
CALSCALE:GREGORIAN
BEGIN:VEVENT
DTSTART:20131012T160000Z
DTEND:20131012T210000Z
X-MICROSOFT-CDO-ALLDAYEVENT:FALSE
SUMMARY:Thanksgiving Farmers' Market
DESCRIPTION:This Saturday\, October 12th from 10am-3pm\, we are pleased to present a special presentation of the St. Albert Farmers' Market for all of your Thanksgiving needs.
X-ALT-DESC;FMTTYPE=text/html:This Saturday\, October 12th from 10am-3pm\, we are pleased to present a special presentation of the St. Albert Farmers&#39\; Market for all of your Thanksgiving needs.
LOCATION:St. Anne Street\, St. Albert\, Downtown Perron District.
UID:e.824.1272
SEQUENCE:3
DTSTAMP:20260420T014727Z
URL:https://business.stalbertchamber.com/events/details/thanksgiving-farmers-market-10-12-2013-1272
END:VEVENT

END:VCALENDAR
