BEGIN:VCALENDAR
VERSION:2.0
PRODID:-//ChamberMaster//Event Calendar 2.0//EN
METHOD:PUBLISH
X-PUBLISHED-TTL:P3D
REFRESH-INTERVAL:P3D
CALSCALE:GREGORIAN
BEGIN:VEVENT
DTSTART:20130405T180000Z
DTEND:20130407T180000Z
X-MICROSOFT-CDO-ALLDAYEVENT:FALSE
SUMMARY:St. Albert Lifestyle Expo & Sale 2013
DESCRIPTION:St. Albert Lifestyle Expo and Sale \n\n	\n\n	Thank you for joining us at the 2013 St. Albert Lifestyle Expo and Sale\n\n	\n\n	50/50 tickets were as follows:\n\n	\n\n	Friday - SAIF Society - $169.00 - Ticket #074174 - Claimed\n\n	\n\n	Saturday - St. Albert Youth Centre - $284.00 - Ticket #074423 - NOT Claimed\n\n	\n\n	Sunday - Juvenile Diabetes Foundation - $150.00 - Ticket #560159 - Claimed\n\n	 \n\n	We look forward to seeing you next year!
X-ALT-DESC;FMTTYPE=text/html:<p style="text-align: center\;">\n	<span style="font-size: 24px\;"><span style="color: rgb(0\, 204\, 51)\;"><strong><span style="font-family: calibri\,sans-serif\;">St. Albert Lifestyle Expo and Sale </span></strong></span></span></p>\n<p>\n	<br />\n	<span style="font-size: 16px\;">Thank you for joining us at the 2013 St. Albert Lifestyle Expo and Sale<br />\n	<br />\n	50/50 tickets were as follows:<br />\n	<br />\n	Friday - SAIF Society - $169.00 - Ticket #074174 - Claimed<br />\n	<br />\n	Saturday - St. Albert Youth Centre - $284.00 - Ticket #074423 - NOT Claimed<br />\n	<br />\n	Sunday - Juvenile Diabetes Foundation - $150.00 - Ticket #560159 - Claimed</span><br />\n	&nbsp\;</p>\n<p style="text-align: center\;">\n	<strong><span style="color: rgb(0\, 204\, 51)\;"><span style="font-size: 14px\;"><span style="font-family: verdana\;">We look forward to seeing you next year!</span></span></span></strong></p>\n<p>\n	<br />\n	&nbsp\;</p>\n
LOCATION:Servus Place 400 Campbell Road St. Albert\, AB
UID:e.824.798
SEQUENCE:3
DTSTAMP:20260424T084719Z
URL:https://business.stalbertchamber.com/events/details/st-albert-lifestyle-expo-sale-2013-04-05-2013-798
END:VEVENT

END:VCALENDAR
