BEGIN:VCALENDAR
VERSION:2.0
PRODID:-//ChamberMaster//Event Calendar 2.0//EN
METHOD:PUBLISH
X-PUBLISHED-TTL:P3D
REFRESH-INTERVAL:P3D
CALSCALE:GREGORIAN
BEGIN:VEVENT
DTSTART:20111019T140000Z
DTEND:20111019T153000Z
X-MICROSOFT-CDO-ALLDAYEVENT:FALSE
SUMMARY:St. Albert Library Business Breakfast
DESCRIPTION:The St. Albert Public Library invities you to attend their Annual  Business Week Breakfast.\n\n\n\nGuest Speaker: Mark Anielski\, Author of The Economics of Happiness: Building Genuine Wealth\n\n\n\nMark is an expert in measuring the sustainable well-being of communities.  His talk will focus on the economics of well-being based on the science of happiness.
X-ALT-DESC;FMTTYPE=text/html:<span style="font-size: 16px"><span style="font-family: tahoma"><strong>The St. Albert Public Library invities you to attend their Annual&nbsp\; Business Week Breakfast.<br />\n<br />\nGuest Speaker: Mark Anielski\, Author of&nbsp\;<em>The Economics of Happiness: Building Genuine Wealth</em><br />\n<br />\n<span style="font-size: 14px">Mark is an expert in measuring the sustainable well-being of communities.&nbsp\; His talk will focus on the economics of well-being based on the science of happiness.</span></strong></span></span><br />\n<span style="font-size: 9pt"><span style="font-family: verdana\, sans-serif">&nbsp\;</span></span><br />\n<span style="font-size: 9pt"><span style="font-family: verdana\, sans-serif">&nbsp\;</span></span>
LOCATION:St. Albert Place\, 5 St. Anne Street
UID:e.824.19
SEQUENCE:3
DTSTAMP:20260425T104817Z
URL:https://business.stalbertchamber.com/events/details/st-albert-library-business-breakfast-10-19-2011-19
END:VEVENT

END:VCALENDAR
