BEGIN:VCALENDAR
VERSION:2.0
PRODID:-//ChamberMaster//Event Calendar 2.0//EN
METHOD:PUBLISH
X-PUBLISHED-TTL:P3D
REFRESH-INTERVAL:P3D
CALSCALE:GREGORIAN
BEGIN:VEVENT
DTSTART:20101204T170000Z
DTEND:20101204T220000Z
X-MICROSOFT-CDO-ALLDAYEVENT:FALSE
SUMMARY:St. Albert Indoor Christmas Market - 2010
DESCRIPTION:Join us for the St. Albert Indoor Christmas Market\n\nEvery Saturday fdrom November 27 to December 18th\n\nLocated at St. Albert Place
X-ALT-DESC;FMTTYPE=text/html:Join us for the St. Albert Indoor Christmas Market<br />\nEvery Saturday fdrom November 27 to December 18th<br />\nLocated at St. Albert Place
LOCATION:Lobby of St. ALbert Place 5 St Anne Street
UID:e.824.647
SEQUENCE:3
DTSTAMP:20260426T024330Z
URL:https://business.stalbertchamber.com/events/details/st-albert-indoor-christmas-market-2010-12-04-2010-647
END:VEVENT

END:VCALENDAR
