BEGIN:VCALENDAR
VERSION:2.0
PRODID:-//ChamberMaster//Event Calendar 2.0//EN
METHOD:PUBLISH
X-PUBLISHED-TTL:P3D
REFRESH-INTERVAL:P3D
CALSCALE:GREGORIAN
BEGIN:VEVENT
DTSTART:20121208T170000Z
DTEND:20121208T220000Z
X-MICROSOFT-CDO-ALLDAYEVENT:FALSE
SUMMARY:St. Albert Indoor Christmas Market
DESCRIPTION:Experience Saturday in St. Albert\n\nSt. Albert's Christmas Indoor Market starts December 1st\n\nand takes place every Saturday from the 1st to the 22nd\n\nLocated in the City Hall Lobby from 10:00 am to 3:00 pm\n\nThe market features free parking and one-stop shopping\n\nfor baking\, ethnic food\, crafts\, gifts and all your other Christmas needs
X-ALT-DESC;FMTTYPE=text/html:Experience Saturday in St. Albert<br />\nSt. Albert&#39\;s Christmas Indoor Market starts December 1st<br />\nand takes place every Saturday from the 1st to the 22nd<br />\nLocated in the City Hall Lobby from 10:00 am to 3:00 pm<br />\nThe market features free parking and one-stop shopping<br />\nfor baking\, ethnic food\, crafts\, gifts and all your other Christmas needs<br />\n<br />\n
LOCATION:St. Albert Place Lobby 5 St. Anne Street
UID:e.824.1038
SEQUENCE:3
DTSTAMP:20260424T150502Z
URL:https://business.stalbertchamber.com/events/details/st-albert-indoor-christmas-market-12-08-2012-1038
END:VEVENT

END:VCALENDAR
