BEGIN:VCALENDAR
VERSION:2.0
PRODID:-//ChamberMaster//Event Calendar 2.0//EN
METHOD:PUBLISH
X-PUBLISHED-TTL:P3D
REFRESH-INTERVAL:P3D
CALSCALE:GREGORIAN
BEGIN:VEVENT
DTSTART:20111018T181500Z
DTEND:20111018T193000Z
X-MICROSOFT-CDO-ALLDAYEVENT:FALSE
SUMMARY:Saint City Rotary Club Luncheon - October 18\, 2011
DESCRIPTION:2011 Small Business Week\n\n	October 14 - October 21\n\n	 \n\n\n\n	Members of the St. Albert Chamber\n\n	are invited to join\n\n	the members of the Saint City Rotary Club\n\n	for lunch.
X-ALT-DESC;FMTTYPE=text/html:<p style="text-align: center">\n	<span style="font-size: 16px"><strong><span style="font-family: tahoma">2011 Small Business Week</span></strong></span><br />\n	<span style="font-size: 16px"><strong><span style="font-family: tahoma">October 14 - October 21</span></strong></span><br />\n	&nbsp\;</p>\n<br />\n<p style="text-align: center">\n	<span style="font-size: 16px"><strong><span style="font-family: tahoma">Members of the St. Albert Chamber<br />\n	are invited to join<br />\n	the members of the Saint City Rotary Club<br />\n	for lunch.</span></strong></span></p>\n
LOCATION:Cornerstone Hall\, 6 Tache Street
UID:e.824.764
SEQUENCE:3
DTSTAMP:20260425T105717Z
URL:https://business.stalbertchamber.com/events/details/saint-city-rotary-club-luncheon-october-18-2011-10-18-2011-764
END:VEVENT

END:VCALENDAR
