BEGIN:VCALENDAR
VERSION:2.0
PRODID:-//ChamberMaster//Event Calendar 2.0//EN
METHOD:PUBLISH
X-PUBLISHED-TTL:P3D
REFRESH-INTERVAL:P3D
CALSCALE:GREGORIAN
BEGIN:VEVENT
DTSTART:20111014T130000Z
DTEND:20111014T143000Z
X-MICROSOFT-CDO-ALLDAYEVENT:FALSE
SUMMARY:Rotary Club of St. Albert / Chamber Breakfast - October 14\, 2011
DESCRIPTION:2011 Small Business Week            October 14 - October 21\n\n\n\nJoin the Chamber of Commerce and the Rotary Club of St. Albert for their Annual Small Business Week Breakfast\n\n\n\nThis is the first event scheduled for the week
X-ALT-DESC;FMTTYPE=text/html:<span style="font-size: 16px"><strong><span style="font-family: tahoma">2011 Small Business Week</span></strong></span>&nbsp\;&nbsp\;&nbsp\; &nbsp\;&nbsp\;&nbsp\; &nbsp\;&nbsp\;&nbsp\; <span style="font-size: 16px"><strong><span style="font-family: tahoma">October 14 - October 21<br />\n<br />\nJoin the Chamber of Commerce and&nbsp\;the Rotary Club of St. Albert&nbsp\;for their Annual Small Business Week Breakfast<br />\n<br />\nThis is the first event scheduled for the week</span></strong></span>
LOCATION:Sturgeon Valley Golf and Country Club Range Road 252A / Sturgeon Road
UID:e.824.763
SEQUENCE:3
DTSTAMP:20260425T105833Z
URL:https://business.stalbertchamber.com/events/details/rotary-club-of-st-albert-chamber-breakfast-october-14-2011-10-14-2011-763
END:VEVENT

END:VCALENDAR
