BEGIN:VCALENDAR
VERSION:2.0
PRODID:-//ChamberMaster//Event Calendar 2.0//EN
METHOD:PUBLISH
X-PUBLISHED-TTL:P3D
REFRESH-INTERVAL:P3D
CALSCALE:GREGORIAN
BEGIN:VEVENT
DTSTART;VALUE=DATE:20110408
DTEND;VALUE=DATE:20110411
TRANSP:TRANSPARENT
X-MICROSOFT-CDO-ALLDAYEVENT:TRUE
SUMMARY:Pure Horticulture Botanical Arts Experience (Hall 4)
DESCRIPTION:Pure Horticulture Botanical Arts Experience\n\n\n\nJoin us for the first Pure Horticulture Botanical Arts Expo show being held April 8 - April 10 at Servus Place.  The CIty of St. Albert announced that it would endeavour to become the centre for botanical arts in Alberta. With "Cultivate Life" as the center piece\, the brand builds on the botanical assets already present in the CIty. The Expo is being  combined with our larger show the Lifestyle Expo & Sale and will be held in the end half of Hall 4.\n\n\n\nThis area will be devoted exclusively to the products and services for the home gardener. \n\n\n\nFeaturing informative workshops delivered by horticulture experts on green gardening and peraculture\,\n\n\n\nWorkshops:\n\n\n	"Garden Myths" presented by Jim Hole\n\n	Date: April 8\, 2011 Time: 6:00 PM - 7:30 PM\n\n	Details\n\n	"Think Outside the Pot" presented by Cory Christopher\n\n	Date: April 9\, 2011 Time: 11:00 AM - 12:15 PM\n\n	Details\n\n	"Cool Green Living" presented by Jim Hole\n\n	Date: April 9\, 2011 Time: 12:30 PM - 1:45 PM\n\n	Details\n\n	"Ponds & Water Features Done Right" by Wayne Boettger\n\n	Date: April 9\, 2011 Time: 2:00 PM - 3:15 PM\n\n	Details\n\n	"Outdoor Space with Indoor Style" presented by Dawn Stiles\n\n	Date: April 9\, 2011 Time: 3:30 PM - 5:00 PM\n\n	Details\n\n	"Intro to Permaculture" presented by Kurtis Ewanchuk\n\n	Date: April 10\, 2011 Time: 12:00 PM - 1:15 PM\n\n	Details\n\n	"Trees In Your Landscape" presented by Dr. Len Burkhart\n\n	Date: April 10\, 2011 Time: 2:00 PM - 3:15 PM\n\n	Details
X-ALT-DESC;FMTTYPE=text/html:<strong>Pure Horticulture Botanical Arts Experience</strong><br />\n<br />\nJoin us for the first Pure Horticulture Botanical Arts Expo show being held April 8 - April 10 at Servus Place.&nbsp\; The CIty of St. Albert announced that it would endeavour to become the centre for botanical arts in Alberta. With &quot\;Cultivate Life&quot\; as the center piece\, the brand builds on the botanical assets already present in the CIty. The&nbsp\;Expo is being&nbsp\; combined with our larger show the Lifestyle Expo &amp\; Sale and will be held in the end half of Hall 4.<br />\n<br />\n<strong>This area will be&nbsp\;devoted exclusively to the products and services for the home gardener.&nbsp\;</strong><br />\n<br />\nFeaturing informative workshops delivered by horticulture experts on green gardening and peraculture\,<br />\n<br />\nWorkshops:<br />\n<p>\n	<strong>&quot\;Garden Myths</strong>&quot\; presented by <em>Jim Hole</em><br />\n	Date: April 8\, 2011 Time: 6:00 PM - 7:30 PM<br />\n	<a href="http://business.stalbertchamber.com/events/details/garden-myths-educational-workshop-jim-hole">Details</a></p>\n<p>\n	<strong>&quot\;Think Outside the Pot&quot\;</strong> presented by <em>Cory Christopher</em><br />\n	Date: April 9\, 2011 Time: 11:00 AM - 12:15 PM<br />\n	<a href="http://business.stalbertchamber.com/events/details/educational-workshop-think-outside-the-pot-presented-by-cory-christopher">Details</a></p>\n<p>\n	<strong>&quot\;Cool Green Living&quot\;</strong> presented by <em>Jim Hole</em><br />\n	Date: April 9\, 2011 Time: 12:30 PM - 1:45 PM<br />\n	<a href="http://business.stalbertchamber.com/Events/details/educational-workshop-cool-green-living-presented-by-jim-hole">Details</a></p>\n<p>\n	<strong>&quot\;Ponds &amp\; Water Features Done Right&quot\;</strong> by<em> Wayne Boettger</em><br />\n	Date: April 9\, 2011 Time: 2:00 PM - 3:15 PM<br />\n	<a href="http://business.stalbertchamber.com/Events/details/educational-workshop-ponds-water-features-done-right-by-wayne-boettger">Details</a></p>\n<p>\n	<strong>&quot\;Outdoor Space with Indoor Style&quot\; </strong>presented by <em>Dawn Stiles</em><br />\n	Date: April 9\, 2011 Time: 3:30 PM - 5:00 PM<br />\n	<a href="http://business.stalbertchamber.com/Events/details/education-workshop-designing-your-outdoor-living-room-by-dawn-stiles-oldring">Details</a></p>\n<p>\n	<strong>&quot\;Intro to Permaculture&quot\;</strong> presented by <em>Kurtis Ewanchuk</em><br />\n	Date: April 10\, 2011 Time: 12:00 PM - 1:15 PM<br />\n	<a href="http://business.stalbertchamber.com/Events/details/educational-workshop-intro-to-permaculture-presented-by-kurtis-ewanchuk">Details</a></p>\n<p>\n	<strong>&quot\;Trees In Your Landscape&quot\;</strong> presented by<em> Dr. Len Burkhart</em><br />\n	Date: April 10\, 2011 Time: 2:00 PM - 3:15 PM<br />\n	<a href="http://business.stalbertchamber.com/Events/details/educational-workshop-trees-in-your-landscape-presented-by-dr-len-burkhart">Details</a></p>\n<br />\n<br />\n<br />\n
LOCATION:Servus Place 400 Campbell Road
UID:e.824.36
SEQUENCE:3
DTSTAMP:20260425T221903Z
URL:https://business.stalbertchamber.com/events/details/pure-horticulture-botanical-arts-experience-hall-4-04-08-2011-36
END:VEVENT

END:VCALENDAR
