BEGIN:VCALENDAR
VERSION:2.0
PRODID:-//ChamberMaster//Event Calendar 2.0//EN
METHOD:PUBLISH
X-PUBLISHED-TTL:P3D
REFRESH-INTERVAL:P3D
CALSCALE:GREGORIAN
BEGIN:VEVENT
DTSTART:20121002T233000Z
DTEND:20121003T020000Z
X-MICROSOFT-CDO-ALLDAYEVENT:FALSE
SUMMARY:Perron District Mixer - October 2\, 2012
DESCRIPTION:Join Us Perron District Business Owners!\n\n	 \n\n	Tuesday\, October 2\, 2012\n\n	5:30 pm - 8:00 pm\n\n	\n\n	Grand Lux Lounge\n\n	105\, 50 St. Thomas Street\n\n	 \n\n	 \n\n	Next Steps for DARP\n\n	by Carol Burgum and Marcelo Figueira from\n\n	City of St. Albert Planning & Development\n\n	\n\n	Introduction to "Twitter 101 for Small Business"\n\n	by Mathew Potter of Swift Media Group\n\n	\n\n	\n\n	This talk will be exclusive for the downtown\n\n	Business Owners and Managers in the Perron District\n\n	\n\n	\n\n	$10.00 for Chamber Members\n\n	$15.00 for Non Members \n\n	Cash Bar\n\n	\n\n	Please RSVP by Monday\, October 1st\n\n	For more information\, contact Paula at 780-458-2833 or\n\n	email paula@stalbertchamber.com\n\n	\n\n	\n\n	\n\n	This invitation is open to ALL Perron Businesses. Please feel free to pass this on to your neighbours.
X-ALT-DESC;FMTTYPE=text/html:<p style="text-align: center">\n	<span style="color: #008000"><span style="font-size: 28px"><span style="font-family: times new roman"><em><strong><span style="background-color: #ffffff">Join Us </span><span style="background-color: #ffffff">Perron</span><span style="background-color: #ffffff"> District Business Owners!</span></strong></em></span></span></span><br />\n	<span style="color: #0066cc"><span style="font-size: 28px"><span style="font-family: times new roman"><span style="background-color: #ffffff">&nbsp\;</span></span></span></span></p>\n<p style="text-align: center">\n	<span style="font-family: verdana"><span style="font-size: 18px">Tuesday\, October 2\, 2012<br />\n	5:30 pm&nbsp\;- 8:00 pm</span></span><br />\n	<br />\n	<span style="font-family: verdana"><span style="font-size: 18px">Grand Lux Lounge<br />\n	105\, 50 St. Thomas Street</span></span><br />\n	&nbsp\;</p>\n<p style="text-align: center">\n	<span style="font-family: arial">&nbsp\;</span></p>\n<p style="text-align: center">\n	<span style="font-size: 16px"><span style="font-family: arial"><strong>Next Steps for DARP</strong><br />\n	by Carol Burgum and Marcelo Figueira from<br />\n	City of St. Albert Planning &amp\; Development<br />\n	<br />\n	<strong>Introduction to &quot\;Twitter 101 for Small Business&quot\;</strong><br />\n	by Mathew Potter of Swift Media Group<br />\n	<br />\n	<br />\n	This talk will be exclusive for the downtown<br />\n	Business Owners and Managers in the Perron District</span></span><br />\n	<br />\n	<br />\n	<span style="font-size: 14pt"><span style="font-family: arial\, sans-serif">$10.00 for Chamber Members<br />\n	$15.00 for Non Members&nbsp\;<br />\n	Cash Bar</span></span><br />\n	<br />\n	<span style="font-size: 13.5pt"><span style="font-family: arial\, sans-serif">Please RSVP by Monday\, October 1st<br />\n	For more information\, contact&nbsp\;Paula at 780-458-2833 or<br />\n	email <a href="mailto:carlye@stalbertchamber.com?subject=April%2010th%20-%20Perron%20Business%20Mixer">paula@stalbertchamber.com</a></span></span><br />\n	<br />\n	<br />\n	<br />\n	<span style="font-size: 16px">This invitation is open to ALL Perron Businesses. Please feel free to pass this on to your neighbours.</span></p>\n
LOCATION:Grand Lux Lounge 105\, 50 St. Thomas Street
UID:e.824.833
SEQUENCE:3
DTSTAMP:20260424T174855Z
URL:https://business.stalbertchamber.com/events/details/perron-district-mixer-october-2-2012-10-02-2012-833
END:VEVENT

END:VCALENDAR
