BEGIN:VCALENDAR
VERSION:2.0
PRODID:-//ChamberMaster//Event Calendar 2.0//EN
METHOD:PUBLISH
X-PUBLISHED-TTL:P3D
REFRESH-INTERVAL:P3D
CALSCALE:GREGORIAN
BEGIN:VEVENT
DTSTART:20120410T233000Z
DTEND:20120411T013000Z
X-MICROSOFT-CDO-ALLDAYEVENT:FALSE
SUMMARY:Perron District Mixer - April 10\, 2012
DESCRIPTION:Join Us Perron District Business Owners!\n\n	Tuesday\, April 10\, 2012\n\n	5:30 pm -- 7:30 pm\n\n	\n\n	St. Albert Public Library\n\n	Forsyth Hall\n\n	5 St. Anne Street\n\n	\n\n	\n\n	Introduction  to "Social Media  for Small Business"\n\n	 \n\n	This talk will be exclusive for the downtown\n\n	Business Owners and Managers in the Perron District. \n\n	\n\n	Mathew Potter of Swift Media Group will be presenting\n\n	"Go Social 2012"\n\n	\n\n	Social Media is the new and fresh way to build your business rolodex in a time efficient manner! \n\n	Come and learn the tricks to developing your social media roadmap!\n\n	\n\n	\n\n	$10.00 for Chamber Members\n\n	$15.00 for Non Members \n\n	 \n\n	 \n\n	 \n\n	Please RSVP by Thursday\, April 5th\n\n	\n\n	For more information\, contact Carlye at 780-458-2833 or\n\n	email  carlye@stalbertchamber.com\n\n	\n\n	\n\n	\n\n	This invitation is open to ALL Perron Businesses. \n\n	Please feel free to pass this on to your neighbours.
X-ALT-DESC;FMTTYPE=text/html:<p style="text-align: center">\n	&nbsp\;<cite><strong><span style="font-size: 15pt"><span style="font-family: comic sans ms">Join Us Perron District Business Owners!</span></span></strong></cite></p>\n<p style="text-align: center">\n	<span style="font-size: 16pt">Tuesday\, April 10\, 2012</span><br />\n	<span style="font-size: 13.5pt">5:30 pm -- 7:30 pm</span><br />\n	<br />\n	<span style="font-size: 14pt">St. Albert Public Library</span><br />\n	<span style="font-size: 14pt">Forsyth Hall</span><br />\n	<span style="font-size: 14pt"><span style="font-family: arial\, sans-serif">5 St. Anne Street</span></span><br />\n	<br />\n	<br />\n	<em><span style="font-style: normal"><span style="font-size: 16pt"><span style="font-family: calibri\, sans-serif">Introduction &nbsp\;to &ldquo\;Social Media &nbsp\;for Small Business&rdquo\;</span></span></span></em><br />\n	&nbsp\;<br />\n	<em><span style="font-style: normal"><span style="font-size: 16pt"><span style="font-family: calibri\, sans-serif">This talk will be exclusive for the downtown<br />\n	Business Owners and Managers&nbsp\;in the Perron District. </span></span></span></em><br />\n	<br />\n	<em><span style="font-style: normal"><span style="font-size: 16pt"><span style="font-family: calibri\, sans-serif">Mathew Potter of Swift Media Group will be presenting<br />\n	&ldquo\;Go Social 2012&rdquo\;</span></span></span></em><br />\n	<br />\n	<em><span style="font-size: 10.5pt"><span style="font-family: comic sans ms">Social Media is the new and fresh way to build your business rolodex in a time efficient manner! </span></span></em><br />\n	<em><span style="font-family: comic sans ms">Come and learn the tricks to developing your social media roadmap!</span></em><br />\n	<br />\n	<br />\n	<span style="font-size: 14pt"><span style="font-family: arial\, sans-serif">$10.00 for Chamber Members<br />\n	$15.00 for Non Members&nbsp\;</span></span><br />\n	&nbsp\;<br />\n	&nbsp\;<br />\n	&nbsp\;<br />\n	<span style="font-size: 13.5pt"><span style="font-family: arial\, sans-serif">Please RSVP by Thursday\, April 5th<br />\n	<br />\n	For more information\, contact Carlye at 780-458-2833 or<br />\n	email&nbsp\; <a href="mailto:carlye@stalbertchamber.com?subject=April%2010th%20-%20Perron%20Business%20Mixer">carlye@stalbertchamber.com</a></span></span><br />\n	<br />\n	<br />\n	<br />\n	<span style="font-size: 16px">This invitation is open to ALL Perron Businesses.&nbsp\;<br />\n	Please feel free to pass this on to your neighbours.</span><br />\n	&nbsp\;</p>\n
LOCATION:
UID:e.824.793
SEQUENCE:3
DTSTAMP:20260425T022617Z
URL:https://business.stalbertchamber.com/events/details/perron-district-mixer-april-10-2012-04-10-2012-793
END:VEVENT

END:VCALENDAR
