BEGIN:VCALENDAR
VERSION:2.0
PRODID:-//ChamberMaster//Event Calendar 2.0//EN
METHOD:PUBLISH
X-PUBLISHED-TTL:P3D
REFRESH-INTERVAL:P3D
CALSCALE:GREGORIAN
BEGIN:VEVENT
DTSTART:20130919T140000Z
DTEND:20130919T150000Z
X-MICROSOFT-CDO-ALLDAYEVENT:FALSE
SUMMARY:Perron District Committee Meeting - September 19\, 2013
DESCRIPTION:The downtown Perron District Business Group has been meeting for several years to address specifically the growth and vibrancy of St. Albert's downtown Perron District. Business owners and stakeholders of the Perron District are invited to attend these monthly meetings to help shape the future of this area.\n\n\n\nThe next meeting is this Thursday\, September 19 at 8:00 am to 9:00 am\, at the Economic Development Office at Sir Winston Churchill and St. Anne Street.
X-ALT-DESC;FMTTYPE=text/html:<span style="font-size: 14px\;"><span style="font-family: verdana\;">The downtown Perron District Business Group has been meeting for several years to address specifically the growth and vibrancy of St. Albert&#39\;s downtown Perron District. Business owners and stakeholders of the Perron District are invited to attend these monthly meetings to help shape the future of this area.<br />\n<br />\nThe next meeting is this Thursday\, September 19 at 8:00 am to 9:00 am\, at the Economic Development Office at Sir Winston Churchill and St. Anne Street.&nbsp\;</span></span><br />\n<br />\n<br />\n
LOCATION:City of St. Albert Economic Development Office 29 Sir Winston Churchill Avenue (Corner of Sir Winston Churchill and St. Anne Street)
UID:e.824.1265
SEQUENCE:3
DTSTAMP:20260420T032315Z
URL:https://business.stalbertchamber.com/events/details/perron-district-committee-meeting-september-19-2013-09-19-2013-1265
END:VEVENT

END:VCALENDAR
