BEGIN:VCALENDAR
VERSION:2.0
PRODID:-//ChamberMaster//Event Calendar 2.0//EN
METHOD:PUBLISH
X-PUBLISHED-TTL:P3D
REFRESH-INTERVAL:P3D
CALSCALE:GREGORIAN
BEGIN:VEVENT
DTSTART:20130516T140000Z
DTEND:20130516T153000Z
X-MICROSOFT-CDO-ALLDAYEVENT:FALSE
SUMMARY:Perron District Committee Meeting - May 16\, 2013
DESCRIPTION:The downtown Perron District Business Group has been meeting for several years to address specifically the growth and vibrancy of St. Albert's downtown Perron District. Business owners and stakeholders of the Perron District are invited to attend these monthly meetings to help shape the future of this area.\n\n\n\nThe next meeting is this Thursday\, May 16th\, at 8:00 am to 9:00 am\, at the Economic Development Office at Sir Winston Churchill and St. Anne Street. \n\n\n\nAttached is an Agenda for the meeting (please click here).
X-ALT-DESC;FMTTYPE=text/html:<span style="font-size: 14px\;"><span style="font-family: verdana\;">The downtown Perron District Business Group has been meeting for several years to address specifically the growth and vibrancy of St. Albert&#39\;s downtown Perron District. Business owners and stakeholders of the Perron District are invited to attend these monthly meetings to help shape the future of this area.<br />\n<br />\nThe next meeting is this Thursday\, May 16<sup>th</sup>\, at 8:00 am to 9:00 am\, at the Economic Development Office at Sir Winston Churchill and St. Anne Street.&nbsp\;<br />\n<br />\nAttached is an Agenda for the meeting (please <a href="http://cloud.chambermaster.com/userfiles/UserFiles/chambers/824/File/Perron_District/Agenda-May162013.doc">click here</a>).&nbsp\;&nbsp\;</span></span><br />\n&nbsp\;<br />\n
LOCATION:City of St. Albert Economic Development Office 29 Sir Winston Churchill Avenue (Corner of Sir Winston Churchill and St. Anne Street)
UID:e.824.1250
SEQUENCE:3
DTSTAMP:20260420T093630Z
URL:https://business.stalbertchamber.com/events/details/perron-district-committee-meeting-may-16-2013-05-16-2013-1250
END:VEVENT

END:VCALENDAR
