BEGIN:VCALENDAR
VERSION:2.0
PRODID:-//ChamberMaster//Event Calendar 2.0//EN
METHOD:PUBLISH
X-PUBLISHED-TTL:P3D
REFRESH-INTERVAL:P3D
CALSCALE:GREGORIAN
BEGIN:VEVENT
DTSTART:20110917T160000Z
DTEND:20110917T210000Z
X-MICROSOFT-CDO-ALLDAYEVENT:FALSE
SUMMARY:Outdoors Farmers Market
DESCRIPTION:The Perron District\n\n	St. Anne and St. Thomas Street
X-ALT-DESC;FMTTYPE=text/html:<p>\n	The Perron District<br />\n	St. Anne and St. Thomas Street</p>\n
LOCATION:The Perron District St. Anne and St. Thomas Street
UID:e.824.456
SEQUENCE:3
DTSTAMP:20260425T123214Z
URL:https://business.stalbertchamber.com/events/details/outdoors-farmers-market-09-17-2011-456
END:VEVENT

END:VCALENDAR
