BEGIN:VCALENDAR
VERSION:2.0
PRODID:-//ChamberMaster//Event Calendar 2.0//EN
METHOD:PUBLISH
X-PUBLISHED-TTL:P3D
REFRESH-INTERVAL:P3D
CALSCALE:GREGORIAN
BEGIN:VEVENT
DTSTART:20111019T220000Z
DTEND:20111020T010000Z
X-MICROSOFT-CDO-ALLDAYEVENT:FALSE
SUMMARY:NABI OKTOBERFEST III - October 19\, 2011
DESCRIPTION:2011 Small Business Week            October 14 - October 21\n\n	\n\n	Join NABI for an afternoon of beer & cheese\n\n	\n\n	This is the fourth event scheduled for the week
X-ALT-DESC;FMTTYPE=text/html:<p>\n	<span style="font-size: 16px"><strong><span style="font-family: tahoma">2011 Small Business Week</span></strong></span>&nbsp\;&nbsp\;&nbsp\; &nbsp\;&nbsp\;&nbsp\; &nbsp\;&nbsp\;&nbsp\; <span style="font-size: 16px"><strong><span style="font-family: tahoma">October 14 - October 21<br />\n	<br />\n	Join NABI for an afternoon of beer &amp\; cheese<br />\n	<br />\n	This is the&nbsp\;fourth event scheduled&nbsp\;for the week</span></strong></span></p>\n
LOCATION:Northern Alberta Business Incubator Campbell Centre\, 200 Carnegie Drive
UID:e.824.15
SEQUENCE:3
DTSTAMP:20260425T123245Z
URL:https://business.stalbertchamber.com/events/details/nabi-oktoberfest-iii-october-19-2011-10-19-2011-15
END:VEVENT

END:VCALENDAR
