BEGIN:VCALENDAR
VERSION:2.0
PRODID:-//ChamberMaster//Event Calendar 2.0//EN
METHOD:PUBLISH
X-PUBLISHED-TTL:P3D
REFRESH-INTERVAL:P3D
CALSCALE:GREGORIAN
BEGIN:VEVENT
DTSTART:20120926T174500Z
DTEND:20120926T193000Z
X-MICROSOFT-CDO-ALLDAYEVENT:FALSE
SUMMARY:Membership Committee Meeting - September 26\, 2012
DESCRIPTION:Membership Committee Meeting
X-ALT-DESC;FMTTYPE=text/html:Membership Committee Meeting
LOCATION:Chamber Board Room
UID:e.824.831
SEQUENCE:3
DTSTAMP:20260424T191621Z
URL:https://business.stalbertchamber.com/events/details/membership-committee-meeting-september-26-2012-09-26-2012-831
END:VEVENT

END:VCALENDAR
