BEGIN:VCALENDAR
VERSION:2.0
PRODID:-//ChamberMaster//Event Calendar 2.0//EN
METHOD:PUBLISH
X-PUBLISHED-TTL:P3D
REFRESH-INTERVAL:P3D
CALSCALE:GREGORIAN
BEGIN:VEVENT
DTSTART;VALUE=DATE:20250816
DTEND;VALUE=DATE:20250817
TRANSP:TRANSPARENT
X-MICROSOFT-CDO-ALLDAYEVENT:TRUE
SUMMARY:Member Event: New Musée Héritage Museum Exhibition\, Raising St. Albert: Early Childhood
DESCRIPTION:New Mus e H ritage Museum Exhibition\, Raising St. Albert: Early Childhood \n\n\n\nTake in this special grand opening event on August 16 from 3-5 pm. \n\n \n\nIn Raising St. Albert: Early Childhood\, explore fun tales of children being mischievous\, and other stories of local Indigenous child-raising practices and M tis midwifery in the early decades of the St. Albert Mission. \n\n\n\nVisitors can view a wide collection of artifacts\; a training potty from the 1950's\, historical Roman Catholic Baptism and Communion clothing\, a handmade crib\, a carriage\, Indigenous moss bags and cradle boards. The exhibition runs until November 15 (open Tuesdays to Saturdays 10 am - 5 pm) at the museum (inside St. Albert Place).
X-ALT-DESC;FMTTYPE=text/html:<span style="font-size:14px\;"><span style="font-family:arial\;"><strong><span style="color:#181818\;">New Mus&eacute\;e H&eacute\;ritage Museum Exhibition\, Raising St. Albert: Early Childhood&nbsp\;</span></strong><br />\n<br />\n<span style="color:#181818\;">Take in this special <strong>grand opening&nbsp\;event</strong>&nbsp\;on <strong>August 16 from 3-5 pm</strong>.&nbsp\;</span><br />\n&nbsp\;<br />\n<span style="color:black\;">In <strong><em>Raising St. Albert: Early Childhood</em></strong>\, explore fun tales of children being mischievous\, and other stories of local Indigenous child-raising practices and M&eacute\;tis midwifery in the early decades of the St. Albert Mission.&nbsp\;</span><br />\n<br />\n<span style="color:#212121\;">Visitors can view a wide collection of artifacts\; a training potty from the 1950&rsquo\;s\, historical Roman Catholic Baptism and Communion clothing\, a handmade crib\, a carriage\, Indigenous moss bags and cradle boards. The exhibition runs until November 15 (<em>open Tuesdays to Saturdays 10 am - 5 pm</em>) at the museum (inside St. Albert Place).</span></span></span>
LOCATION:
UID:e.824.2182
SEQUENCE:3
DTSTAMP:20260422T063845Z
URL:https://business.stalbertchamber.com/events/details/member-event-new-mus&#233;e-h&#233;ritage-museum-exhibition-raising-st-albert-early-childhood-2182
END:VEVENT

END:VCALENDAR
