BEGIN:VCALENDAR
VERSION:2.0
PRODID:-//ChamberMaster//Event Calendar 2.0//EN
METHOD:PUBLISH
X-PUBLISHED-TTL:P3D
REFRESH-INTERVAL:P3D
CALSCALE:GREGORIAN
BEGIN:VEVENT
DTSTART:20250920T230000Z
DTEND:20250921T010000Z
X-MICROSOFT-CDO-ALLDAYEVENT:FALSE
SUMMARY:Member Event: Cookies & Cocktails
DESCRIPTION:Cookies & Cocktails\n\nWhen:\n\nAges 18+ - Saturday\, September 20th 5PM - 7PM\n\nAges 18+ - Saturday\, November 15th 5PM - 7PM\n\nPrice: $85 + tax\n\nIn this workshop students will learn to flood & pipe their own custom cookies. Learn a variety of royal icing techniques while enjoying one of our signature cocktails! Students will take home 6 themed cookies at the end of class.\n\n\n\nPlease call (587)873-6502 or email confectionscakeco@outlook.com to register
X-ALT-DESC;FMTTYPE=text/html:<span style="font-size:16px\;">Cookies &amp\; Cocktails<br />\nWhen:<br />\nAges 18+ - Saturday\, September 20th 5PM - 7PM<br />\nAges 18+ - Saturday\, November 15th 5PM - 7PM<br />\nPrice: $85&nbsp\;+ tax<br />\nIn this workshop students will learn to flood &amp\; pipe their own custom cookies. Learn a variety of royal icing techniques while enjoying one of our signature cocktails! Students will take home 6 themed cookies at the end of class.</span><br />\n<br />\n<span style="font-family:aptos\,sans-serif\;"><span style="font-size:11.0pt\;">Please call (587)873-6502 or email&nbsp\;<a href="mailto:confectionscakeco@outlook.com">confectionscakeco@outlook.com</a>&nbsp\;to register</span></span>
LOCATION:
UID:e.824.2186
SEQUENCE:3
DTSTAMP:20260422T031822Z
URL:https://business.stalbertchamber.com/events/details/member-event-cookies-cocktails-2186
END:VEVENT

END:VCALENDAR
