BEGIN:VCALENDAR
VERSION:2.0
PRODID:-//ChamberMaster//Event Calendar 2.0//EN
METHOD:PUBLISH
X-PUBLISHED-TTL:P3D
REFRESH-INTERVAL:P3D
CALSCALE:GREGORIAN
BEGIN:VEVENT
DTSTART:20130916T140000Z
DTEND:20130916T150000Z
X-MICROSOFT-CDO-ALLDAYEVENT:FALSE
SUMMARY:Market Access Tour
DESCRIPTION:The St. Albert & District Chamber of Commerce and the City of St. Albert's Economic Development department are excited to announce the upcoming Market Access Tour.  Alberta International and Intergovernmental Relations Minister Cal Dallas will be coming to St. Albert to discuss how the Alberta Government can help you grow your business by accessing new international export markets for your product or service.\n\n\n\n- Learn about key markets\, opportunities and trade development services\n\n- Get advice on who to contact locally and internationally\n\n- Network with the Chamber of Commerce\, industry associations and other stakeholders\n\n- Hear about Alberta's International Strategy and International Office network\n\n\n\nThis session will be great for businesses that currently export and those that are thinking about it as a possibility.  It is an opportunity for manufacturers\, service providers and even the small businesses that are selling products online to learn more. \n\n\n\nCheck out a short video presentation by Minister Dallas for more information.\n\n\n\nClick here to register
X-ALT-DESC;FMTTYPE=text/html:The St. Albert &amp\; District Chamber of Commerce and the City of St. Albert&#39\;s Economic Development department are excited to announce the upcoming Market Access Tour.&nbsp\; Alberta International and Intergovernmental Relations Minister Cal Dallas will be coming to St. Albert to discuss how the Alberta Government can help you grow your business by accessing new international export markets for your product or service.<br />\n<br />\n- Learn about key markets\, opportunities and trade development services<br />\n- Get advice on who to contact locally and internationally<br />\n- Network with the Chamber of Commerce\, industry associations and other stakeholders<br />\n- Hear about Alberta&#39\;s International Strategy and International Office network<br />\n<br />\nThis session will be great for businesses that currently export and those that are thinking about it as a&nbsp\;possibility.&nbsp\; It is an opportunity for manufacturers\, service providers and even the small businesses that are selling products online to learn more.&nbsp\;<br />\n<br />\nCheck out a <a href="http://www.youtube.com/watch?v=WBxmiMuJARU">short video presentation </a>by Minister Dallas for more information.<br />\n<br />\n<a href="http://marketaccesstour.eventbrite.ca/">Click here</a> to register<br />\n
LOCATION:St. Albert Inn & Suites 156 St. Albert Trail Grandin Room
UID:e.824.1261
SEQUENCE:3
DTSTAMP:20260420T050624Z
URL:https://business.stalbertchamber.com/events/details/market-access-tour-09-16-2013-1261
END:VEVENT

END:VCALENDAR
