BEGIN:VCALENDAR
VERSION:2.0
PRODID:-//ChamberMaster//Event Calendar 2.0//EN
METHOD:PUBLISH
X-PUBLISHED-TTL:P3D
REFRESH-INTERVAL:P3D
CALSCALE:GREGORIAN
BEGIN:VEVENT
DTSTART:20260219T153000Z
DTEND:20260219T170000Z
X-MICROSOFT-CDO-ALLDAYEVENT:FALSE
SUMMARY:Legal Bootcamp Series: Business Law Basics
DESCRIPTION:Join us for Part 1 of the Legal Bootcamp Series\, designed to give business owners the foundational legal knowledge they need to grow confidently.\n\n\n\nThis interactive panel discussion is geared toward new entrepreneurs and established businesses alike. You'll get practical insights that apply to businesses at any stage and the chance to submit your own questions in advance.\n\n \nWhat You'll Learn:\n\n\n	\n	The benefits of incorporating your business and why it matters.\n	\n	\n	Understanding a minute book and the value of professional legal support in organizing your company.\n	\n	\n	Contracts that protect your business: service agreements\, sales agreements\, distributor agreements\, rental agreements\, contractor agreements\, and more.\n	\n	\n	What a Unanimous Shareholder Agreement is and why your business may need one.\n	\n	\n	Employment contracts and the distinction between employees and independent contractors.\n	\n	\n	Leases and space-sharing arrangements: how these can impact your business success.\n	\n	\n	Real-world experiences from a business owner who has navigated incorporation and legal planning.\n\n	 \n	\n\n\nAbout the Series:\n\nThe Legal Bootcamp Series is a three-part program designed to guide business owners through the key stages of business planning:\n\nPart 1   Business Law Basics: Start-up essentials and foundational legal considerations.\n\nPart 2   Tax Planning\, Financing & Succession Planning: Strategies for growth and sustainability.\n\nPart 3   Buying and Selling a Business: Legal insights for acquisition\, sale\, and exit strategies.\n\n \n\nMake the panel discussion relevant to you! Share your business law questions in advance\, and we'll address them during the session.\n\nSUBMIT QUESTIONS HERE
X-ALT-DESC;FMTTYPE=text/html:<span style="font-size:16px\;"><span style="font-family:arial\;">Join us for <strong data-end="548" data-start="509">Part 1 of the Legal Bootcamp Series</strong>\, designed to give business owners the foundational legal knowledge they need to grow confidently.<br />\n<br />\nThis <strong data-end="687" data-start="655">interactive panel discussion</strong> is geared toward new entrepreneurs and established businesses alike. You&rsquo\;ll get practical insights that apply to businesses at any stage and the chance to submit your own questions in advance.</span></span><br />\n&nbsp\;\n<p data-end="908" data-start="884"><span style="font-size:16px\;"><span style="font-family:arial\;"><strong data-end="906" data-start="884">What You&rsquo\;ll Learn:</strong></span></span></p>\n\n<ul data-end="1606" data-start="909">\n	<li data-end="976" data-start="909">\n	<p data-end="976" data-start="911"><span style="font-size:16px\;"><span style="font-family:arial\;">The benefits of incorporating your business and why it matters.</span></span></p>\n	</li>\n	<li data-end="1084" data-start="977">\n	<p data-end="1084" data-start="979"><span style="font-size:16px\;"><span style="font-family:arial\;">Understanding a <strong data-end="1010" data-start="995">minute book</strong> and the value of professional legal support in organizing your company.</span></span></p>\n	</li>\n	<li data-end="1240" data-start="1085">\n	<p data-end="1240" data-start="1087"><span style="font-size:16px\;"><span style="font-family:arial\;">Contracts that protect your business: service agreements\, sales agreements\, distributor agreements\, rental agreements\, contractor agreements\, and more.</span></span></p>\n	</li>\n	<li data-end="1326" data-start="1241">\n	<p data-end="1326" data-start="1243"><span style="font-size:16px\;"><span style="font-family:arial\;">What a <strong data-end="1285" data-start="1250">Unanimous Shareholder Agreement</strong> is and why your business may need one.</span></span></p>\n	</li>\n	<li data-end="1418" data-start="1327">\n	<p data-end="1418" data-start="1329"><span style="font-size:16px\;"><span style="font-family:arial\;">Employment contracts and the distinction between employees and independent contractors.</span></span></p>\n	</li>\n	<li data-end="1505" data-start="1419">\n	<p data-end="1505" data-start="1421"><span style="font-size:16px\;"><span style="font-family:arial\;">Leases and space-sharing arrangements: how these can impact your business success.</span></span></p>\n	</li>\n	<li data-end="1606" data-start="1506">\n	<p data-end="1606" data-start="1508"><span style="font-size:16px\;"><span style="font-family:arial\;">Real-world experiences from a business owner who has navigated incorporation and legal planning.</span></span><br />\n	&nbsp\;</p>\n	</li>\n</ul>\n\n<p data-end="2213" data-start="2059"><span style="font-size:16px\;"><span style="font-family:arial\;"><strong data-end="2080" data-start="2059">About the Series:</strong><br data-end="2083" data-start="2080" />\nThe Legal Bootcamp Series is a three-part program designed to guide business owners through the key stages of business planning:</span></span></p>\n\n<p data-end="2311" data-start="2217" style="margin-left: 40px\;"><span style="font-size:16px\;"><span style="font-family:arial\;"><strong data-end="2250" data-start="2217">Part 1 &ndash\; Business Law Basics:</strong> Start-up essentials and foundational legal considerations.</span></span></p>\n\n<p data-end="2418" data-start="2315" style="margin-left: 40px\;"><span style="font-size:16px\;"><span style="font-family:arial\;"><strong data-end="2374" data-start="2315">Part 2 &ndash\; Tax Planning\, Financing &amp\; Succession Planning:</strong> Strategies for growth and sustainability.</span></span></p>\n\n<p data-end="2526" data-start="2422" style="margin-left: 40px\;"><span style="font-size:16px\;"><span style="font-family:arial\;"><strong data-end="2465" data-start="2422">Part 3 &ndash\; Buying and Selling a Business:</strong> Legal insights for acquisition\, sale\, and exit strategies.</span></span><br />\n&nbsp\;</p>\n\n<p data-end="2526" data-start="2422"><span style="font-size:16px\;"><span style="font-family:arial\;">Make the panel discussion relevant to you! Share your business law questions in advance\, and we&rsquo\;ll address them during the session.<br />\n<strong><a href="http://business.stalbertchamber.com/form/view/38485">SUBMIT QUESTIONS HERE</a></strong></span></span></p>\n
LOCATION:St. Albert's Seniors Activity and Resource Community Centre 7 Tache Street St. Albert\, AB T8N 2S3
UID:e.824.2234
SEQUENCE:3
DTSTAMP:20260422T085615Z
URL:https://business.stalbertchamber.com/events/details/legal-bootcamp-series-business-law-basics-2234
END:VEVENT

END:VCALENDAR
