BEGIN:VCALENDAR
VERSION:2.0
PRODID:-//ChamberMaster//Event Calendar 2.0//EN
METHOD:PUBLISH
X-PUBLISHED-TTL:P3D
REFRESH-INTERVAL:P3D
CALSCALE:GREGORIAN
BEGIN:VEVENT
DTSTART:20110410T200000Z
DTEND:20110410T211500Z
X-MICROSOFT-CDO-ALLDAYEVENT:FALSE
SUMMARY:Horticulture Workshop - "Trees In Your Landscape" presented by Dr. Len Burkhart
DESCRIPTION:A Pure Horticulture Botanical Arts Educational Workshop\n\n	 \n\n	 Trees In Your Landscape\n\n	Presented by Len F. Burkhart\, Jr.\, Ph.D. Senior Scientist - Western North America for The Davey Tree Expert Company. \n\n	\n\n	Tree Care: Best Management Practices\n\n	 \n\n	Leonard Burkhart\, Jr.\, Ph.D. will cover general practices to help keep your trees looking their best. Just as one may need to tend to their lawn\, one must tend to their shrubs and trees. Learn about some of the International Society of Arboriculture recommended practices and also become aware of harmful practices.\n\n	\n\n	Dr. Len Burkhart's Bio\n\n	Leonard F. Burkhart\, Jr. Ph.D.\, is a horticulturist\, with degrees in Botany\, Agronomy\, and Horticulture. His responsibilities include arboricultural and horticultural consulting\, research\, and science advising for The Davey Tree Expert Company in the Western Canada and Western U.S.\n\n	 \n\n	Dr. Burkhart joined Davey in 1991. Prior to joining Davey\, he was a research and teaching assistant at the University of Illinois. He has more than twenty-five years of experience teaching horticulture and weed science. \n\n	 \n\n	Dr. Burkhart is a member of the International Society of Arboriculture (ISA)\, Western Chapter-ISA\, American Society of Horticulture Science\, Pesticide Applicators Professional Association (PAPA)\, and the PLANET Representative for the Council for Tree and Landscape Appraisers (CTLA).\n\n	\n\n	For more information about Davey Tree - Check Out www.davey.com
X-ALT-DESC;FMTTYPE=text/html:<p style="text-align: center">\n	<span style="font-size: 14px"><span style="font-family: century schoolbook\,serif"><span style="color: black"><span style="font-size: 12px"><span style="font-family: georgia\,serif"><span style="color: black"><span style="color: #99cc33"><strong><span style="font-size: 12px"><span style="font-family: calibri\,sans-serif"><span><span style="font-family: lucida calligraphy">A Pure Horticulture Botanical Arts Educational Workshop</span></span></span></span></strong></span><br />\n	&nbsp\;</span></span></span></span></span></span></p>\n<p>\n	<span style="font-size: 14px"><span style="font-family: century schoolbook\,serif"><span style="color: black"><span style="font-size: 12px"><span style="font-family: georgia\,serif"><span style="color: black"><span style="color: #008000"><strong>&nbsp\;</strong></span><span style="font-size: 12px"><span style="font-family: calibri\,sans-serif"><span><span style="font-family: lucida calligraphy"><u>Trees In Your Landscape</u><br />\n	Presented by Len F. Burkhart\, Jr.\, Ph.D.&nbsp\;Senior Scientist - Western North America for&nbsp\;The Davey Tree Expert Company.&nbsp\;</span></span></span></span></span></span></span></span></span></span><br />\n	<br />\n	<span style="font-size: 12px"><span><span style="font-family: century schoolbook\,serif"><span style="color: black"><span style="font-family: georgia\,serif"><span style="color: black"><span style="font-family: calibri\,sans-serif"><span><span style="font-family: lucida calligraphy"><font color="#000000" face="Lucida Calligraphy"><span style="font-family: lucida calligraphy">Tree Care: Best Management Practices</span><br />\n	&nbsp\;<br />\n	<span style="font-family: lucida calligraphy">Leonard Burkhart\, Jr.\, Ph.D. will cover general practices to help keep your trees looking their best. Just as one may need to tend to their lawn\, one must tend to their shrubs and trees. Learn about some of the International Society of Arboriculture recommended practices and also become aware of harmful practices.</span></font></span></span></span></span></span></span></span></span></span><br />\n	<br />\n	<span style="font-size: 14px"><span style="font-family: century schoolbook\,serif"><span style="color: black"><span style="font-family: georgia\,serif"><span style="color: black"><u><font face="Lucida Calligraphy">Dr. Len Burkhart&#39\;s Bio</font></u><br />\n	<span style="font-size: 12px"><span><font face="Lucida Calligraphy"><span style="font-family: lucida calligraphy">Leonard F. Burkhart\, Jr. Ph.D.\, is a horticulturist\, with degrees in Botany\, Agronomy\, and Horticulture. His responsibilities include arboricultural and horticultural consulting\, research\, and science advising for The Davey Tree Expert Company in the Western Canada and Western U.S.</span><br />\n	&nbsp\;<br />\n	<span style="font-family: lucida calligraphy">Dr. Burkhart joined Davey in 1991. Prior to joining Davey\, he was a research and teaching assistant at the University of Illinois. He has more than twenty-five years of experience teaching horticulture and weed science. </span><br />\n	&nbsp\;<br />\n	<span style="font-family: lucida calligraphy">Dr. Burkhart is a member of the International Society of Arboriculture (ISA)\, Western Chapter-ISA\, American Society of Horticulture Science\, Pesticide Applicators Professional Association (PAPA)\, and the PLANET Representative for the Council for Tree and Landscape Appraisers (CTLA).</span></font></span></span></span></span></span></span></span><br />\n	<br />\n	<span style="font-size: 14px"><span style="font-family: century schoolbook\,serif"><span style="color: black"><span style="font-family: georgia\,serif"><span style="color: black"><font face="Lucida Calligraphy"><font face="Lucida Calligraphy">For more information about&nbsp\;Davey Tree&nbsp\;- Check Out </font><a href="http://www.holesonline.com/"><font face="Lucida Calligraphy">www.davey.com</font></a><font face="Lucida Calligraphy"> </font></font></span></span></span></span></span></p>\n
LOCATION:Servus Place - In Hall 4 of the Lifestyle Expo & Sale 400 Campbell Road St. Albert\, AB
UID:e.824.733
SEQUENCE:3
DTSTAMP:20260425T222110Z
URL:https://business.stalbertchamber.com/events/details/horticulture-workshop-trees-in-your-landscape-presented-by-dr-len-burkhart-04-10-2011-733
END:VEVENT

END:VCALENDAR
