BEGIN:VCALENDAR
VERSION:2.0
PRODID:-//ChamberMaster//Event Calendar 2.0//EN
METHOD:PUBLISH
X-PUBLISHED-TTL:P3D
REFRESH-INTERVAL:P3D
CALSCALE:GREGORIAN
BEGIN:VEVENT
DTSTART:20110409T170000Z
DTEND:20110409T181500Z
X-MICROSOFT-CDO-ALLDAYEVENT:FALSE
SUMMARY:Horticulture Workshop - "Think Outside the Pot" presented by Cory Christopher
DESCRIPTION:A Pure Horticulture Botanical Arts Educational Workshop\n\n	 \n\n	 Container Gardening: Think Outside the Pot\n\n	Presented by Cory Christopher\, Creative Director for First Choice Tree Nursery & Garden Centre\n\n	\n\n	Container gardening is all the rage!  Prepare to be "WOWED" by a showcase of the latest trends and endless possibilities. Receive designer advice on selecting the perfect container\, appropriate soil\, and picking plant material including unexpected accents such as vegetables\, tropicals\, shrubs and even trees. See how simple and easy it is to combine various textures\, colors and even garden d cor to achieve your very own one-of-a-kind designer container. Afterwards your fingers will be itching for spring to officially arrive and your creativity to begin. You will truly be "thinking outside the pot!"
X-ALT-DESC;FMTTYPE=text/html:<p>\n	&nbsp\;</p>\n<p style="text-align: center">\n	<span style="color: #99cc33"><strong><span style="font-size: 12px"><span style="font-family: calibri\,sans-serif"><span><span style="font-family: lucida calligraphy">A Pure Horticulture Botanical Arts Educational Workshop</span></span></span></span></strong></span><br />\n	&nbsp\;</p>\n<p>\n	<span style="color: #008000"><strong>&nbsp\;</strong></span><span style="font-size: 12px"><span style="font-family: calibri\,sans-serif"><span><span style="font-family: lucida calligraphy"><u>Container Gardening: Think Outside the Pot</u><br />\n	Presented by Cory Christopher\, Creative Director for First Choice Tree Nursery &amp\; Garden Centre</span></span></span></span><br />\n	<br />\n	<span style="font-size: 12px"><span style="font-family: calibri\,sans-serif"><span><span style="font-family: lucida calligraphy"><span style="color: black">Container gardening is all the rage!&nbsp\; Prepare to be &ldquo\;WOWED&rdquo\; by a showcase of the latest trends and endless possibilities. Receive designer advice on selecting the perfect container\, appropriate soil\, and picking plant material including unexpected accents such as vegetables\, tropicals\, shrubs and even trees. See how simple and easy it is to combine various textures\, colors and even garden d&eacute\;cor to achieve your very own one-of-a-kind designer container. Afterwards your fingers will be itching for spring to officially arrive and your creativity to begin. You will truly be &ldquo\;thinking outside the pot!&rdquo\;</span></span></span></span></span><br />\n	&nbsp\;</p>\n
LOCATION:Servus Place - In Hall 4 of the Lifestyle Expo & Sale 400 Campbell Road St. Albert\, AB
UID:e.824.728
SEQUENCE:3
DTSTAMP:20260425T221719Z
URL:https://business.stalbertchamber.com/events/details/horticulture-workshop-think-outside-the-pot-presented-by-cory-christopher-04-09-2011-728
END:VEVENT

END:VCALENDAR
