BEGIN:VCALENDAR
VERSION:2.0
PRODID:-//ChamberMaster//Event Calendar 2.0//EN
METHOD:PUBLISH
X-PUBLISHED-TTL:P3D
REFRESH-INTERVAL:P3D
CALSCALE:GREGORIAN
BEGIN:VEVENT
DTSTART:20110409T200000Z
DTEND:20110409T211500Z
X-MICROSOFT-CDO-ALLDAYEVENT:FALSE
SUMMARY:Horticulture Workshop - "Ponds & Water Features Done Right" by Wayne Boettger
DESCRIPTION:A Pure Horticulture Botanical Arts Educational Workshop \n\n	 \n\n	Ponds and Water Features Done Right\n\n	Presented by Wayne Boettger\, President of Patio Magic Inc.\n\n	\n\n	Learn how to design and maintain water features you will love for years to come. Design aspects covered in this session include determining the right location\, size and scale\, rock types and placement\, incorporating plant life\, basic construction details\, and tips for making natural looking projects. Pond maintenance myths will be exposed and solutions to environmental issues and sustainability will be discussed. You will walk away with a new appreciation for water features after this informative and interactive session.\n\n	\n\n	For more information about Patio Magic - Check Out www.patiomagic.ca
X-ALT-DESC;FMTTYPE=text/html:<p style="text-align: center">\n	<br />\n	<strong><span style="color: #99cc33"><span style="font-family: lucida calligraphy"><span style="font-size: 8pt">A Pure Horticulture Botanical Arts Educational Workshop </span></span></span></strong><br />\n	&nbsp\;</p>\n<p>\n	<u><font face="Lucida Calligraphy">Ponds and Water Features Done Right</font></u><br />\n	<span style="font-family: lucida calligraphy"><span style="color: #222222"><span style="font-size: 8pt">Presented by&nbsp\;Wayne Boettger\,&nbsp\;President of Patio Magic Inc.<br />\n	<br />\n	Learn how to design and maintain water features you will love for years to come. Design aspects covered in this session include determining the right location\, size and scale\, rock types and placement\, incorporating plant life\, basic construction details\, and tips for making natural looking projects. Pond maintenance myths will be exposed and solutions to environmental issues and sustainability will be discussed. You will walk away with a new appreciation for water features after this informative and interactive session.<br />\n	<br />\n	For more information about Patio Magic -&nbsp\;Check Out </span></span><span style="color: #00cc33"><span><span style="font-size: 8pt"><a href="http://www.patiomagic.ca">www.patiomagic.ca</a></span></span></span><span><span style="font-size: 8pt"><span style="color: #00cc33"> </span></span></span></span></p>\n
LOCATION:Servus Place - In Hall 4 of the Lifestyle Expo & Sale 400 Campbell Road St. Albert\, AB
UID:e.824.730
SEQUENCE:3
DTSTAMP:20260425T205155Z
URL:https://business.stalbertchamber.com/events/details/horticulture-workshop-ponds-water-features-done-right-by-wayne-boettger-04-09-2011-730
END:VEVENT

END:VCALENDAR
