BEGIN:VCALENDAR
VERSION:2.0
PRODID:-//ChamberMaster//Event Calendar 2.0//EN
METHOD:PUBLISH
X-PUBLISHED-TTL:P3D
REFRESH-INTERVAL:P3D
CALSCALE:GREGORIAN
BEGIN:VEVENT
DTSTART:20110409T213000Z
DTEND:20110409T230000Z
X-MICROSOFT-CDO-ALLDAYEVENT:FALSE
SUMMARY:Horticulture Workshop-"Outdoor Space with Indoor Style" presented by Dawn Stiles
DESCRIPTION:A Pure Horticulture Botanical Arts Educational Workshop \n\n	 \n\n	Outdoor Space with Indoor Style\n\n	Presented by Dawn Stiles\, Owner of Dawn Stiles Design - create space for life\n\n	\n\n	Who put the chesterfield in the backyard?\n\n	\n\n	This 1 1/2 hour session will focus on various ways to style our garden rooms with the same creativity we use in our interior spaces. The outdoor room can be as elaborate or as simple as you like. Whether it is lounging\, dining or napping in the sun\, attendees will hear about new and re-purposed products that can be used to create a space unique to their needs and desires.\n\n	 \n\n	For more information about Dawn Stiles Design - Check Out www.dawnstiles.com
X-ALT-DESC;FMTTYPE=text/html:<p style="text-align: center">\n	<br />\n	<strong><span style="color: #99cc33"><span style="font-family: lucida calligraphy"><span style="font-size: 8pt">A Pure Horticulture Botanical Arts Educational Workshop </span></span></span></strong><br />\n	&nbsp\;</p>\n<p>\n	<u><span style="font-family: lucida calligraphy"><span style="color: #222222"><span style="font-size: 8pt">Outdoor Space with Indoor Style</span></span></span></u><br />\n	<span style="font-family: lucida calligraphy"><span style="color: #222222"><span style="font-size: 8pt">Presented by Dawn Stiles\, Owner of Dawn Stiles Design - create space for life<br />\n	<br />\n	Who put the chesterfield in the backyard?<br />\n	<br />\n	This 1 1/2 hour session will focus on various ways to style our garden rooms with the same creativity we use in our interior spaces. The outdoor room can be as elaborate or as simple as you like. Whether it is lounging\, dining or napping in the sun\, attendees will hear about new and re-purposed products that can be used to create a space unique to their needs and desires.<br />\n	&nbsp\;<br />\n	For more information about Dawn Stiles Design - Check Out&nbsp\;<a href="http://www.dawnstiles.com">www.dawnstiles.com</a> </span></span></span><br />\n	&nbsp\;</p>\n
LOCATION:Servus Place - In Hall 4 of the Lifestyle Expo & Sale 400 Campbell Road St. Albert\, AB
UID:e.824.731
SEQUENCE:3
DTSTAMP:20260425T205614Z
URL:https://business.stalbertchamber.com/events/details/horticulture-workshop-outdoor-space-with-indoor-style-presented-by-dawn-stiles-04-09-2011-731
END:VEVENT

END:VCALENDAR
