BEGIN:VCALENDAR
VERSION:2.0
PRODID:-//ChamberMaster//Event Calendar 2.0//EN
METHOD:PUBLISH
X-PUBLISHED-TTL:P3D
REFRESH-INTERVAL:P3D
CALSCALE:GREGORIAN
BEGIN:VEVENT
DTSTART:20110410T180000Z
DTEND:20110410T191500Z
X-MICROSOFT-CDO-ALLDAYEVENT:FALSE
SUMMARY:Horticulture Workshop - "Intro to Permaculture" presented by Kurtis Ewanchuk
DESCRIPTION:A Pure Horticulture Botanical Arts Educational Workshop \n\n	 \n\n	Introduction to Permaculture\n\n	Presented by Kurtis Ewanchuk\, CEO at Rising Earth Permaculture and Thomas Barr of NuEnergy Group\n\n	\n\n	\n\n	Transitioning towards sustainable design from backyards to bio-regions\n\n	This 1 1/2 hour workshop is intended to give keen learners and experienced gardeners a basic understanding of the ethics\, principles and methodologies of permaculture design. Through this workshop\, the participant shall come to know practical strategies for increasing productivity\, building resiliency\, and reaching sustainability through their backyards and gardens.\n\n	\n\n	For more information on permaculture - Check Out www.permacultureglobal.com \n\n	For more information on NuEnergy Group of Companies - Check Out www.nuenergygroup.com
X-ALT-DESC;FMTTYPE=text/html:<p style="text-align: center">\n	<br />\n	<strong><span style="color: #99cc33"><span style="font-family: lucida calligraphy"><span style="font-size: 8pt">A Pure Horticulture Botanical Arts Educational Workshop </span></span></span></strong><br />\n	&nbsp\;</p>\n<p>\n	<u><font face="Lucida Calligraphy">Introduction to Permaculture</font></u><br />\n	<span style="font-family: lucida calligraphy"><span style="color: #222222"><span style="font-size: 8pt">Presented by Kurtis Ewanchuk\, CEO&nbsp\;at Rising Earth Permaculture and Thomas Barr of NuEnergy Group<br />\n	<br />\n	<br />\n	Transitioning towards sustainable design from backyards to bio-regions<br />\n	This 1 1/2 hour workshop is intended to give keen learners and experienced gardeners a basic understanding of the ethics\, principles and methodologies of permaculture design. Through this workshop\, the participant shall come to know practical strategies for increasing productivity\, building resiliency\, and reaching sustainability through their backyards and gardens.<br />\n	<br />\n	For more information on permaculture - Check Out <a href="http://www.permacultureglobal.com">www.permacultureglobal.com</a>&nbsp\;<br />\n	For more information on NuEnergy Group of Companies - Check Out <a href="http://www.nuenergygroup.com">www.nuenergygroup.com</a></span></span></span></p>\n
LOCATION:Servus Place - In Hall 4 of the Lifestyle Expo & Sale 400 Campbell Road St. Albert\, AB
UID:e.824.732
SEQUENCE:3
DTSTAMP:20260425T222238Z
URL:https://business.stalbertchamber.com/events/details/horticulture-workshop-intro-to-permaculture-presented-by-kurtis-ewanchuk-04-10-2011-732
END:VEVENT

END:VCALENDAR
