BEGIN:VCALENDAR
VERSION:2.0
PRODID:-//ChamberMaster//Event Calendar 2.0//EN
METHOD:PUBLISH
X-PUBLISHED-TTL:P3D
REFRESH-INTERVAL:P3D
CALSCALE:GREGORIAN
BEGIN:VEVENT
DTSTART:20110409T000000Z
DTEND:20110409T013000Z
X-MICROSOFT-CDO-ALLDAYEVENT:FALSE
SUMMARY:Horticulture Workshop - "Garden Myths" presented by Jim Hole
DESCRIPTION:The first Pure Horticulture Botanical Arts Educational Workshop of the weekend\n\n\nGarden Myths\n\nPresented by Jim Hole\, Owner of Hole's Greenhouses & Gardens Ltd.\n\n\n\nDo water droplets magnify sunlight and burn plants? Will adding rocks to the base of a pot improve water drainage? Garden myths\, passed down through the ages\, can often lead you astray. Jim Hole will separate fact from fiction as he debunks myths that have plagued gardeners for years.\n\n\n\nFor more information about Hole's - Check Out www.holesonline.com
X-ALT-DESC;FMTTYPE=text/html:&nbsp\;\n<p style="text-align: center">\n	<br />\n	<strong><span style="color: #99cc33"><span style="font-family: lucida calligraphy"><span style="font-size: 8pt">The first Pure Horticulture Botanical Arts Educational Workshop of the weekend</span></span></span></strong></p>\n<br />\n<u><span style="font-family: lucida calligraphy"><span style="color: #222222"><span style="font-size: 8pt">Garden Myths</span></span></span></u><br />\n<span style="font-family: lucida calligraphy"><span style="color: #222222"><span style="font-size: 8pt">Presented by Jim Hole\, Owner&nbsp\;of Hole&#39\;s Greenhouses &amp\; Gardens Ltd.<br />\n<br />\nDo water droplets magnify sunlight and burn plants? Will adding rocks to the base of a pot improve water drainage? Garden myths\, passed down through the ages\, can often lead you astray. Jim Hole will separate fact from fiction as he debunks myths that have plagued gardeners for years.</span></span></span><br />\n<br />\n<span style="font-size: 12px"><font face="Lucida Calligraphy">For more information about Hole&#39\;s - Check Out </font><a href="http://www.holesonline.com/"><font face="Lucida Calligraphy">www.holesonline.com</font></a><font face="Lucida Calligraphy"> </font></span>
LOCATION:Servus Place - In Hall 4 of the Lifestyle Expo & Sale 400 Campbell Road St. Albert\, AB
UID:e.824.727
SEQUENCE:3
DTSTAMP:20260425T222228Z
URL:https://business.stalbertchamber.com/events/details/horticulture-workshop-garden-myths-presented-by-jim-hole-04-08-2011-727
END:VEVENT

END:VCALENDAR
