BEGIN:VCALENDAR
VERSION:2.0
PRODID:-//ChamberMaster//Event Calendar 2.0//EN
METHOD:PUBLISH
X-PUBLISHED-TTL:P3D
REFRESH-INTERVAL:P3D
CALSCALE:GREGORIAN
BEGIN:VEVENT
DTSTART:20110409T183000Z
DTEND:20110409T194500Z
X-MICROSOFT-CDO-ALLDAYEVENT:FALSE
SUMMARY:Horticulture Workshop - "Cool Green Living" presented by Jim Hole
DESCRIPTION:A Pure Horticulture Botanical Arts Educational Workshop \n\n	 \n\n	Cool Green Living\n\n	Presented by Jim Hole\, Owner of Hole's Greenhouses & Gardens Ltd.\n\n	\n\n	Have you ever grown a garden in a truck bed? How about on a roof? Join Jim Hole\, as he introduces you to the fun and fascinating world of growing living walls\, microgreens and much more. From the basic to the bizarre\, discover what everyone should know about cool green living.\n\n	\n\n	For more information about Hole's - Check Out www.holesonline.com
X-ALT-DESC;FMTTYPE=text/html:<p style="text-align: center">\n	<br />\n	<strong><span style="color: #99cc33"><span style="font-family: lucida calligraphy"><span style="font-size: 8pt">A Pure Horticulture Botanical Arts Educational Workshop </span></span></span></strong><br />\n	&nbsp\;</p>\n<p>\n	<u><span style="font-family: lucida calligraphy"><span style="color: #222222"><span style="font-size: 8pt">Cool Green Living</span></span></span></u><br />\n	<span style="font-family: lucida calligraphy"><span style="color: #222222"><span style="font-size: 8pt">Presented by Jim Hole\, Owner of Hole&#39\;s Greenhouses &amp\; Gardens Ltd.<br />\n	<br />\n	Have you ever grown a garden in a truck bed? How about on a roof? Join Jim Hole\, as he introduces you to the fun and fascinating world of growing living walls\, microgreens and much more. From the basic to the bizarre\, discover what everyone should know about cool green living.<br />\n	<br />\n	For more information about Hole&#39\;s - Check Out <a href="http://www.holesonline.com">www.holesonline.com</a> </span></span></span></p>\n
LOCATION:Servus Place - In Hall 4 of the Lifestyle Expo & Sale 400 Campbell Road St. Albert\, AB
UID:e.824.729
SEQUENCE:3
DTSTAMP:20260425T222202Z
URL:https://business.stalbertchamber.com/events/details/horticulture-workshop-cool-green-living-presented-by-jim-hole-04-09-2011-729
END:VEVENT

END:VCALENDAR
