BEGIN:VCALENDAR
VERSION:2.0
PRODID:-//ChamberMaster//Event Calendar 2.0//EN
METHOD:PUBLISH
X-PUBLISHED-TTL:P3D
REFRESH-INTERVAL:P3D
CALSCALE:GREGORIAN
BEGIN:VEVENT
DTSTART;VALUE=DATE:20110604
DTEND;VALUE=DATE:20110606
TRANSP:TRANSPARENT
X-MICROSOFT-CDO-ALLDAYEVENT:TRUE
SUMMARY:Healthy Business Challenge Slo-Pitch Tournament
DESCRIPTION:Our Healthy Business Challenge is where the business community of St. Albert  can get out of the office  and participate in some friendly competition and team building. Your company earns points for every event that you participate in\, working towards winning the Grand Trophy presented at the 2012 Chamber Gala.\n\n\n\nHealthy Business Challenge Mission Statement\n\nTo cultivate a healthier workforce\, stronger team spirit and proud involvement in our community\n\n\n\nDon't miss out on your opportunity to foster employee interaction\, teamwork\, morale\, pride and health and wellness\, this is the event to have fun!\n\n\n\nHealthy Business Challenge Slo-pitch Tournament\n\n\n\nFirst place: Ken Macrae's Bean Counters from Ken Macrae Professional Corporation\n\n\n\nSecond place: Donna Radke's Sunshine Sliders from Sunshine Promotions\n\n\n\nThird place: Gary Cheetham's team Connect Logistics
X-ALT-DESC;FMTTYPE=text/html:Our Healthy Business Challenge is where the business community of St. Albert&nbsp\; can get out of the office&nbsp\; and participate in some friendly competition and team building. Your company earns points for every event that you participate in\, working towards winning the Grand Trophy presented at the 2012 Chamber Gala.<br />\n<br />\n<strong>Healthy Business Challenge Mission Statement</strong><br />\n<em>To cultivate a healthier workforce\, stronger team spirit and proud involvement in our community</em><br />\n<br />\nDon&#39\;t miss out on your opportunity to foster employee interaction\, teamwork\, morale\, pride and health and wellness\, this is the event to&nbsp\;have&nbsp\;fun!<br />\n<br />\n<span style="font-size: 16px"><strong><span style="font-family: comic sans ms"><span style="color: #b22222">Healthy Business Challenge Slo-pitch Tournament</span></span></strong></span><br />\n<br />\n<span style="font-size: 16px"><strong>First place: Ken Macrae&#39\;s Bean Counters from Ken Macrae Professional Corporation<br />\n<br />\nSecond place: Donna Radke&#39\;s Sunshine Sliders from Sunshine Promotions<br />\n<br />\nThird place: Gary Cheetham<strong><font size="3">&#39\;</font></strong>s team Connect Logistics </strong></span><br />\n<br />\n
LOCATION:Meadowview Baseball Diamonds 1 Meadowview Drive St. Albert
UID:e.824.40
SEQUENCE:3
DTSTAMP:20260425T172151Z
URL:https://business.stalbertchamber.com/events/details/healthy-business-challenge-slo-pitch-tournament-06-04-2011-40
END:VEVENT

END:VCALENDAR
