BEGIN:VCALENDAR
VERSION:2.0
PRODID:-//ChamberMaster//Event Calendar 2.0//EN
METHOD:PUBLISH
X-PUBLISHED-TTL:P3D
REFRESH-INTERVAL:P3D
CALSCALE:GREGORIAN
BEGIN:VEVENT
DTSTART;VALUE=DATE:20110312
DTEND;VALUE=DATE:20110313
TRANSP:TRANSPARENT
X-MICROSOFT-CDO-ALLDAYEVENT:TRUE
SUMMARY:Healthy Business Challenge - Curling
DESCRIPTION:Our Healthy Business Challenge is where the business community of St. Albert  can get out of the office  and participate in some friendly competition and team building. Your company earns points for every event that you participate in\, working towards winning the Grand Trophy presented at the 2012 Chamber Gala.\n\n\n\nHealthy Business Challenge Mission Statement\n\nTo cultivate a healthier workforce\, stronger team spirit and proud involvement in our community\n\n\n\nDon't miss out on your opportunity to foster employee interaction\, teamwork\, morale\, pride and health and wellness\, this is the event to have fun!\n\n\n\nTo register\, please Click Here
X-ALT-DESC;FMTTYPE=text/html:Our Healthy Business Challenge is where the business community of St. Albert&nbsp\; can get out of the office&nbsp\; and participate in some friendly competition and team building. Your company earns points for every event that you participate in\, working towards winning the Grand Trophy presented at the 2012 Chamber Gala.<br />\n<br />\n<strong>Healthy Business Challenge Mission Statement</strong><br />\n<em>To cultivate a healthier workforce\, stronger team spirit and proud involvement in our community</em><br />\n<br />\nDon&#39\;t miss out on your opportunity to foster employee interaction\, teamwork\, morale\, pride and health and wellness\, this is the event to&nbsp\;have&nbsp\;fun!<br />\n<br />\nTo register\, please <a href="http://cloud.chambermaster.com/userfiles/UserFiles/chambers/824/File/EVENTS/2011%20Curling%20Registration.pdf">Click Here</a>
LOCATION:St. Albert Curling Club 7 Sir Winston Churchill Avenue St. Albert
UID:e.824.671
SEQUENCE:3
DTSTAMP:20260425T221848Z
URL:https://business.stalbertchamber.com/events/details/healthy-business-challenge-curling-03-12-2011-671
END:VEVENT

END:VCALENDAR
