BEGIN:VCALENDAR
VERSION:2.0
PRODID:-//ChamberMaster//Event Calendar 2.0//EN
METHOD:PUBLISH
X-PUBLISHED-TTL:P3D
REFRESH-INTERVAL:P3D
CALSCALE:GREGORIAN
BEGIN:VEVENT
DTSTART:20120602T150000Z
DTEND:20120604T000000Z
X-MICROSOFT-CDO-ALLDAYEVENT:FALSE
SUMMARY:Healthy Business Challenge - 2012 Slo-Pitch Tournament Sat & Sun June 2-3
DESCRIPTION:2012's Healthy Business Challenge Slo-pitch Tournament Winners\n1st place: St. Albert Curling Club Hackers\n\n2nd place: Connect Liquor Lovers\n\n3rd place: Gypsies & Jabronies\n\n\n\n\n\nOur Healthy Business Challenge is where the business community of St. Albert  can get out of the office  and participate in some friendly competition and team building. Your company earns points for every event that you participate in\, working towards winning the Grand Trophy presented at the 2013 Chamber Gala.\n\n\n\nHealthy Business Challenge Mission Statement\n\nTo cultivate a healthier workforce\, stronger team spirit and proud involvement in our community\n\n\n\nDon't miss out on your opportunity to foster employee interaction\, teamwork\, morale\, pride and health and wellness\, this is the event to have fun!\n\n\n\nTo register for this year's tournament\, please Click Here\n\n\n\nLast year's winners of our 2011 Healthy Business Challenge Slo-pitch Tournament\n\n\n\n1st place: Ken Macrae's Bean Counters from Ken Macrae Professional Corporation\n\n\n\n2nd place: Donna Radke's Sunshine Sliders from Sunshine Promotions\n\n\n\n3rd place: Gary Cheetham's team Connect Logistics
X-ALT-DESC;FMTTYPE=text/html:<div style="text-align: center">\n	<span style="font-size: 16px"><strong><span style="color: red"><span style="font-family: candara\,sans-serif">2012&rsquo\;s Healthy Business Challenge Slo-pitch Tournament Winners</span></span></strong></span></div>\n<span style="font-size: 16px"><strong><span style="color: red"><span style="font-family: candara\,sans-serif">1<sup>st</sup> place: St. Albert Curling Club Hackers</span></span></strong><br />\n<strong><span style="color: red"><span style="font-family: candara\,sans-serif">2<sup>nd</sup> place: Connect Liquor Lovers</span></span></strong><br />\n<strong><span style="color: red"><span style="font-family: candara\,sans-serif">3<sup>rd</sup> place: Gypsies &amp\; Jabronies</span></span></strong></span><br />\n<br />\n<br />\nOur Healthy Business Challenge is where the business community of St. Albert&nbsp\; can get out of the office&nbsp\; and participate in some friendly competition and team building. Your company earns points for every event that you participate in\, working towards winning the Grand Trophy presented at the 2013 Chamber Gala.<br />\n<br />\n<strong>Healthy Business Challenge Mission Statement</strong><br />\n<em>To cultivate a healthier workforce\, stronger team spirit and proud involvement in our community</em><br />\n<br />\nDon&#39\;t miss out on your opportunity to foster employee interaction\, teamwork\, morale\, pride and health and wellness\, this is the event to&nbsp\;have&nbsp\;fun!<br />\n<br />\nTo register for this year&#39\;s tournament\, please <a href="http://cloud.chambermaster.com/userfiles/UserFiles/chambers/824/File/2012slo-pitchregistration.pdf">Click Here</a><br />\n<br />\n<span style="font-size: 16px"><strong><span style="font-family: comic sans ms"><span style="color: #b22222">Last year&#39\;s winners of our 2011 Healthy Business Challenge Slo-pitch Tournament</span></span></strong></span><br />\n<br />\n<span style="font-size: 12px"><strong>1st&nbsp\;place: Ken Macrae&#39\;s Bean Counters from Ken Macrae Professional Corporation<br />\n<br />\n2nd place: Donna Radke&#39\;s Sunshine Sliders from Sunshine Promotions<br />\n<br />\n3rd place: Gary Cheetham<strong>&#39\;</strong>s team Connect Logistics </strong></span><br />\n<br />\n
LOCATION:Meadowview Baseball Diamonds 1 Meadowview Drive St. Albert
UID:e.824.782
SEQUENCE:3
DTSTAMP:20260425T010915Z
URL:https://business.stalbertchamber.com/events/details/healthy-business-challenge-2012-slo-pitch-tournament-sat-sun-june-2-3-06-02-2012-782
END:VEVENT

END:VCALENDAR
