BEGIN:VCALENDAR
VERSION:2.0
PRODID:-//ChamberMaster//Event Calendar 2.0//EN
METHOD:PUBLISH
X-PUBLISHED-TTL:P3D
REFRESH-INTERVAL:P3D
CALSCALE:GREGORIAN
BEGIN:VEVENT
DTSTART:20120504T000000Z
DTEND:20120504T020000Z
X-MICROSOFT-CDO-ALLDAYEVENT:FALSE
SUMMARY:Healthy Business Challenge - 2012 Bowling Thursday\, May 3rd
DESCRIPTION:First Place: Sunshine Promotions\n\nSecond Place: The Eagles\n\nThird Place: DKC Sparklean\n\n\n\nOur Healthy Business Challenge is where the business community of St. Albert  can get out of the office  and participate in some friendly competition and team building. Your company earns points for every event that you participate in\, working towards winning the Grand Trophy presented at the 2013 Chamber Gala.\n\n\n\nHealthy Business Challenge Mission Statement\n\nTo cultivate a healthier workforce\, stronger team spirit and proud involvement in our community\n\n\n\nDon't miss out on your opportunity to foster employee interaction\, teamwork\, morale\, pride and health and wellness\, this is the event to have fun!\n\n\n\nTo register\, please Click Here
X-ALT-DESC;FMTTYPE=text/html:<strong><span style="font-size: 16px">First Place: Sunshine Promotions<br />\nSecond Place:&nbsp\;The Eagles<br />\nThird Place:&nbsp\;DKC Sparklean</span></strong><br />\n<br />\nOur Healthy Business Challenge is where the business community of St. Albert&nbsp\; can get out of the office&nbsp\; and participate in some friendly competition and team building. Your company earns points for every event that you participate in\, working towards winning the Grand Trophy presented at the 2013 Chamber Gala.<br />\n<br />\n<strong>Healthy Business Challenge Mission Statement</strong><br />\n<em>To cultivate a healthier workforce\, stronger team spirit and proud involvement in our community</em><br />\n<br />\nDon&#39\;t miss out on your opportunity to foster employee interaction\, teamwork\, morale\, pride and health and wellness\, this is the event to&nbsp\;have&nbsp\;fun!<br />\n<br />\nTo register\, please <a href="http://cloud.chambermaster.com/userfiles/UserFiles/chambers/824/File/2012bowlerRegistrationForm.pdf">Click Here</a>&nbsp\;
LOCATION:St. Albert Bowling Centre 14 Inglewood Drive St. Albert
UID:e.824.781
SEQUENCE:3
DTSTAMP:20260425T010511Z
URL:https://business.stalbertchamber.com/events/details/healthy-business-challenge-2012-bowling-thursday-may-3rd-05-03-2012-781
END:VEVENT

END:VCALENDAR
