BEGIN:VCALENDAR
VERSION:2.0
PRODID:-//ChamberMaster//Event Calendar 2.0//EN
METHOD:PUBLISH
X-PUBLISHED-TTL:P3D
REFRESH-INTERVAL:P3D
CALSCALE:GREGORIAN
BEGIN:VEVENT
DTSTART:20120705T141500Z
DTEND:20120705T223000Z
X-MICROSOFT-CDO-ALLDAYEVENT:FALSE
SUMMARY:Habitat of Humanity - Chamber Build
DESCRIPTION:HABITAT FOR HUMANITY\n\n	CHAMBER BUILD\n\n	\n\n	Thursday\, July 5\, 2012\n\n	8:15 am to 4:30 pm\n\n	\n\n	70 Arlington Drive\n\n	St. Albert
X-ALT-DESC;FMTTYPE=text/html:<div style="text-align: center">\n	HABITAT FOR HUMANITY<br />\n	CHAMBER BUILD<br />\n	<br />\n	Thursday\, July 5\, 2012<br />\n	8:15 am to 4:30 pm<br />\n	<br />\n	70 Arlington Drive<br />\n	St. Albert</div>\n<br />\n
LOCATION:
UID:e.824.812
SEQUENCE:3
DTSTAMP:20260424T222332Z
URL:https://business.stalbertchamber.com/events/details/habitat-of-humanity-chamber-build-07-05-2012-812
END:VEVENT

END:VCALENDAR
