BEGIN:VCALENDAR
VERSION:2.0
PRODID:-//ChamberMaster//Event Calendar 2.0//EN
METHOD:PUBLISH
X-PUBLISHED-TTL:P3D
REFRESH-INTERVAL:P3D
CALSCALE:GREGORIAN
BEGIN:VEVENT
DTSTART:20260130T180000Z
DTEND:20260130T230000Z
X-MICROSOFT-CDO-ALLDAYEVENT:FALSE
SUMMARY:Grand Opening/Ribbon Cutting: PayMore
DESCRIPTION:Join us as we celebrate the official Grand Opening of PayMore in St. Albert!\n\n\n\nWe're excited to welcome PayMore to the community and invite you to be part of this special milestone. Come out to connect\, meet the team at PayMore\, and support a new local business.\n\n\n\nRefreshments will be available. Their will be several draws including a Sony PS5. \n\n\n\nSee you there!
X-ALT-DESC;FMTTYPE=text/html:<span style="font-size:16px\;"><strong>Join us as we celebrate the official Grand Opening of PayMore in St. Albert!</strong><br />\n<br />\nWe&rsquo\;re excited to welcome PayMore to the community and invite you to be part of this special milestone. Come out to connect\, meet the team at PayMore\, and support a new local business.<br />\n<br />\nRefreshments will be available. Their will be several draws including a Sony PS5.&nbsp\;<br />\n<br />\nSee you there!</span><br />\n<br />\n&nbsp\;
LOCATION:2003 Tudor Glen\, St. Albert
UID:e.824.2248
SEQUENCE:3
DTSTAMP:20260424T102251Z
URL:https://business.stalbertchamber.com/events/details/grand-opening-ribbon-cutting-paymore-2248
END:VEVENT

END:VCALENDAR
