BEGIN:VCALENDAR
VERSION:2.0
PRODID:-//ChamberMaster//Event Calendar 2.0//EN
METHOD:PUBLISH
X-PUBLISHED-TTL:P3D
REFRESH-INTERVAL:P3D
CALSCALE:GREGORIAN
BEGIN:VEVENT
DTSTART;VALUE=DATE:20131130
DTEND;VALUE=DATE:20131222
TRANSP:TRANSPARENT
X-MICROSOFT-CDO-ALLDAYEVENT:TRUE
SUMMARY:Christmas Market
DESCRIPTION:Every Saturday\, From November 30th to December 21st\, the St. Albert and District Chamber of Commerce welcomes you to celebrate the holiday season and stock up on gifts\, crafts\, and delicious home-made treats at the Christmas Market!
X-ALT-DESC;FMTTYPE=text/html:Every Saturday\, From November 30th to December 21st\, the St. Albert and District Chamber of Commerce welcomes you to celebrate the holiday season and stock up on gifts\, crafts\, and delicious home-made treats at the Christmas Market!
LOCATION:This year\, the Christmas Market will be held in the lobby of St. Albert City Hall\, located on St. Anne street in downtown St. Albert
UID:e.824.1275
SEQUENCE:3
DTSTAMP:20260422T085326Z
URL:https://business.stalbertchamber.com/events/details/christmas-market-11-30-2013-1275
END:VEVENT

END:VCALENDAR
