BEGIN:VCALENDAR
VERSION:2.0
PRODID:-//ChamberMaster//Event Calendar 2.0//EN
METHOD:PUBLISH
X-PUBLISHED-TTL:P3D
REFRESH-INTERVAL:P3D
CALSCALE:GREGORIAN
BEGIN:VEVENT
DTSTART:20101127T170000Z
DTEND:20101127T220000Z
X-MICROSOFT-CDO-ALLDAYEVENT:FALSE
SUMMARY:Christmas Indoor Market - 2010
DESCRIPTION:Join us for the Indoor Christmas Market\n\n	Saturdays in St. Albert's Perron District\n\n	From November 27 to December 18th
X-ALT-DESC;FMTTYPE=text/html:<p>\n	Join us for the Indoor Christmas Market<br />\n	Saturdays in St. Albert&#39\;s Perron District<br />\n	From November 27 to December 18th</p>\n
LOCATION:St. Albert Place 5 St. Anne Street
UID:e.824.442
SEQUENCE:3
DTSTAMP:20260426T041913Z
URL:https://business.stalbertchamber.com/events/details/christmas-indoor-market-2010-11-27-2010-442
END:VEVENT

END:VCALENDAR
