BEGIN:VCALENDAR
VERSION:2.0
PRODID:-//ChamberMaster//Event Calendar 2.0//EN
METHOD:PUBLISH
X-PUBLISHED-TTL:P3D
REFRESH-INTERVAL:P3D
CALSCALE:GREGORIAN
BEGIN:VEVENT
DTSTART:20101218T170000Z
DTEND:20101218T220000Z
X-MICROSOFT-CDO-ALLDAYEVENT:FALSE
SUMMARY:Christmas Indoor Farmers' Market - Dec 18\, 2010
DESCRIPTION:
X-ALT-DESC;FMTTYPE=text/html:
LOCATION:St. Albert Place 5 St. Anne Street
UID:e.824.29
SEQUENCE:3
DTSTAMP:20260426T024503Z
URL:https://business.stalbertchamber.com/events/details/christmas-indoor-farmers-market-dec-18-2010-12-18-2010-29
END:VEVENT

END:VCALENDAR
