BEGIN:VCALENDAR
VERSION:2.0
PRODID:-//ChamberMaster//Event Calendar 2.0//EN
METHOD:PUBLISH
X-PUBLISHED-TTL:P3D
REFRESH-INTERVAL:P3D
CALSCALE:GREGORIAN
BEGIN:VEVENT
DTSTART:20110511T173000Z
DTEND:20110511T193000Z
X-MICROSOFT-CDO-ALLDAYEVENT:FALSE
SUMMARY:Business @ Lunch - May 11\, 2011
DESCRIPTION:Business @ Lunch\n\n	Wednesday\, May 11th\, 2011\n\n	Kinsmen Banquet Centre - 47 Riel Drive\n\n	11:30 am - 1:30 pm\n\n	\n\n	Speaker\n\n	\n\n	Jim Davidson\n\n	\n\n	"Mystery Shopping Program"\n\n	St. Albert Chamber's\n\n	Newest Benefit of Membership\n\n	\n\n	\n\n	Community Spotlight:\n\n	\n\n	Kinsmen Rodeo\n\n	&\n\n	Freedom of the City\n\n	\n\n	$30 Members\n\n	$35 Potential Members\n\n	 \nThroughout North America\, Jim Davidson\, principal of Competitactics\, has designed and implemented customer satisfaction studies and mystery shopping exercises ranging from insurance to fast food.  He is leading the development of a graduate program in business intelligence at Seneca College of Applied Arts & Technology. \n\n\n\nHe will be speaking on the St. Albert Chamber's newest benefit of membership ~ The Mystery Shopping Program.
X-ALT-DESC;FMTTYPE=text/html:<p style="text-align: center">\n	<span style="font-size: 16px">Business @ Lunch</span></p>\n<p style="text-align: center">\n	<span style="font-size: 14px">Wednesday\, May 11</span><span style="font-size: 14px">th\, 2011</span></p>\n<p style="text-align: center">\n	<span style="font-size: 14px">Kinsmen Banquet Centre - 47 Riel Drive</span></p>\n<p style="text-align: center">\n	11:30 am&nbsp\;- 1:30 pm<br />\n	<br />\n	Speaker<br />\n	<br />\n	<span style="font-size: 14px"><strong>Jim Davidson<br />\n	<br />\n	&quot\;Mystery Shopping Program&quot\;<br />\n	St. Albert Chamber&#39\;s<br />\n	Newest Benefit of Membership</strong><br />\n	<br />\n	<br />\n	Community Spotlight:<br />\n	<br />\n	Kinsmen&nbsp\;Rodeo<br />\n	&amp\;<br />\n	Freedom of the City<br />\n	<br />\n	$30 Members<br />\n	$35 Potential Members<br />\n	&nbsp\;</span></p>\nThroughout North America\, Jim Davidson\, principal of Competitactics\, has designed and implemented customer satisfaction studies and mystery shopping exercises ranging from insurance to fast food.&nbsp\; He is leading the development of a graduate program in business intelligence at Seneca College of Applied Arts &amp\; Technology.&nbsp\;<br />\n<br />\nHe will be speaking on the St. Albert Chamber&#39\;s newest benefit of membership ~ The Mystery Shopping Program.
LOCATION:
UID:e.824.37
SEQUENCE:3
DTSTAMP:20260425T185907Z
URL:https://business.stalbertchamber.com/events/details/business-lunch-may-11-2011-05-11-2011-37
END:VEVENT

END:VCALENDAR
