BEGIN:VCALENDAR
VERSION:2.0
PRODID:-//ChamberMaster//Event Calendar 2.0//EN
METHOD:PUBLISH
X-PUBLISHED-TTL:P3D
REFRESH-INTERVAL:P3D
CALSCALE:GREGORIAN
BEGIN:VEVENT
DTSTART:20110112T183000Z
DTEND:20110112T203000Z
X-MICROSOFT-CDO-ALLDAYEVENT:FALSE
SUMMARY:Business @ Lunch - Jan 2011 - Economic Outlook
DESCRIPTION:CLICK HERE for the PDF Presentaion by Angus Watt\n\n\n\n\n\nAngus Watt\, Managing Director\, Individual Investor Services\, National Bank Financial will be speaking on the 2011 Economic Outlook ~ "Are We in the Eye of the Storm?"\n\n\n\nCome and see how you did in your predictions for 2010 and make your own predictions for 2011.\n\n\n\nCommunity Spotlight:  Marc Kennedy will be presenting the Kick off to the 2011 World Financial Group Continental Cup ..
X-ALT-DESC;FMTTYPE=text/html:<a href="http://cloud.chambermaster.com/userfiles/UserFiles/chambers/824/File/presentationdocuments/jan2011Anguswatt.pdf">CLICK HERE for the PDF Presentaion by Angus Watt</a><br />\n<br />\n<br />\nAngus Watt\, Managing Director\, Individual Investor Services\, National Bank Financial will be speaking on the 2011 Economic Outlook ~ &quot\;Are We in the Eye of the Storm?&quot\;<br />\n<br />\nCome and see how you did in your predictions for 2010 and make your own predictions for 2011.<br />\n<br />\nCommunity Spotlight:&nbsp\; Marc Kennedy will be presenting the Kick off to the 2011 World Financial Group Continental Cup<span _fck_bookmark="1" style="display: none">&nbsp\;..</span>
LOCATION:Sturgeon Valley Golf and Country Club Sturgeon Road / Range Road 252A
UID:e.824.31
SEQUENCE:3
DTSTAMP:20260426T013207Z
URL:https://business.stalbertchamber.com/events/details/business-lunch-jan-2011-economic-outlook-01-12-2011-31
END:VEVENT

END:VCALENDAR
