BEGIN:VCALENDAR
VERSION:2.0
PRODID:-//ChamberMaster//Event Calendar 2.0//EN
METHOD:PUBLISH
X-PUBLISHED-TTL:P3D
REFRESH-INTERVAL:P3D
CALSCALE:GREGORIAN
BEGIN:VEVENT
DTSTART:20110209T183000Z
DTEND:20110209T203000Z
X-MICROSOFT-CDO-ALLDAYEVENT:FALSE
SUMMARY:Business @ Lunch - Feb 9\, 2011 - Mayor's State of the City Address
DESCRIPTION:**************   WE ARE SOLD OUT     **************\n\n	\n\n	\n\n	STATE OF THE CITY ADDRESS\n\n	 \n\n	Mayor Nolan Crouse\n\n	City of St. Albert\n\n	 \n\n	\n\n	\n\n	February 9\, 2011\n\n	11:30 am - 1:30 pm\n\n	\n\n	\n\n	St. Albert Curling Club\n\n	7 Sir Winston Churchill Avenue\n\n	\n\n	\n\n	$30.00 members\n\n	$35.00 non members\n\n	\n\n	\n\n	\n\n	Meeting Sponsor\n\n	\n\n	Aqua Insurance Brokers Ltd.\n\n	\n\n	\n\n	Community Spotlight\n\n	\n\n	2011 Alberta 55 Plus Winter Games
X-ALT-DESC;FMTTYPE=text/html:<p style="text-align: center">\n	<span style="font-size: 18px">**************&nbsp\;&nbsp\; <strong><em>WE ARE SOLD OUT&nbsp\;&nbsp\;&nbsp\;&nbsp\; </em></strong>**************<br />\n	<br />\n	<br />\n	STATE OF THE CITY ADDRESS</span><br />\n	<span style="font-size: 12px">&nbsp\;</span></p>\n<p style="text-align: center">\n	<span style="font-size: 16px"><span style="font-family: verdana">Mayor Nolan Crouse</span></span></p>\n<p style="text-align: center">\n	<span style="font-size: 16px"><span style="font-family: verdana">City of St. Albert</span></span><br />\n	&nbsp\;</p>\n<p style="text-align: center">\n	<br />\n	<br />\n	<span style="font-size: 16px"><span style="font-family: verdana">February 9\, 2011<br />\n	11:30 am - 1:30 pm<br />\n	<br />\n	<br />\n	St. Albert Curling Club<br />\n	7 Sir Winston Churchill Avenue<br />\n	<br />\n	<br />\n	$30.00 members<br />\n	$35.00 non members<br />\n	<br />\n	<br />\n	<br />\n	<u>Meeting Sponsor</u><br />\n	<br />\n	Aqua Insurance Brokers Ltd.<br />\n	<br />\n	<br />\n	<u>Community Spotlight</u><br />\n	<br />\n	2011 Alberta 55 Plus Winter Games</span></span><br />\n	&nbsp\;</p>\n
LOCATION:St. Albert Curling Club 7 Sir Winston Churchill Avenue
UID:e.824.33
SEQUENCE:3
DTSTAMP:20260426T013319Z
URL:https://business.stalbertchamber.com/events/details/business-lunch-feb-9-2011-mayor-s-state-of-the-city-address-02-09-2011-33
END:VEVENT

END:VCALENDAR
