BEGIN:VCALENDAR
VERSION:2.0
PRODID:-//ChamberMaster//Event Calendar 2.0//EN
METHOD:PUBLISH
X-PUBLISHED-TTL:P3D
REFRESH-INTERVAL:P3D
CALSCALE:GREGORIAN
BEGIN:VEVENT
DTSTART:20261125T233000Z
DTEND:20261126T013000Z
X-MICROSOFT-CDO-ALLDAYEVENT:FALSE
SUMMARY:Business Afterhours Mixer hosted by Visual Arts Studio Association of St. Albert
DESCRIPTION:More information soon.
X-ALT-DESC;FMTTYPE=text/html:<span style="font-size:16px\;"><span style="font-family:arial\;">More information soon.</span></span>
LOCATION:
UID:e.824.3668
SEQUENCE:3
DTSTAMP:20260421T085222Z
URL:https://business.stalbertchamber.com/events/details/business-afterhours-mixer-hosted-by-visual-arts-studio-association-of-st-albert-3668
END:VEVENT

END:VCALENDAR
