BEGIN:VCALENDAR
VERSION:2.0
PRODID:-//ChamberMaster//Event Calendar 2.0//EN
METHOD:PUBLISH
X-PUBLISHED-TTL:P3D
REFRESH-INTERVAL:P3D
CALSCALE:GREGORIAN
BEGIN:VEVENT
DTSTART:20260225T233000Z
DTEND:20260226T013000Z
X-MICROSOFT-CDO-ALLDAYEVENT:FALSE
SUMMARY:Business Afterhours Mixer hosted by Browns SocialHouse
DESCRIPTION:It is our first Chamber Business AfterHours Mixer for 2026!\n\n\n\nJoin us for an evening of networking and great conversations at the Business Afterhours Mixer hosted by Browns SocialHouse-St. Albert. \n\n\n\nThis event provides an excellent opportunity for local business professionals\, entrepreneurs\, and community leaders to connect\, share ideas\, and build valuable relationships in a relaxed and casual atmosphere. Enjoy complimentary appetizers.\n\n\n\nSee you there!\n\n \n----------------------------------------------------------------------\n\nBrowns Socialhouse features a modern dining room and lounge plus a covered and heated outdoor patio which provides a true Socialhouse experience. Whether you are joining us for a business lunch\, an after-work cocktail\, or watching the game with friends\, this is the place to be in St. Albert.
X-ALT-DESC;FMTTYPE=text/html:<span style="font-size:16px\;"><span style="font-family:arial\;"><span style="font-size:18px\;"><strong>It is our first Chamber Business AfterHours Mixer for 2026!</strong></span><br />\n<br />\nJoin us for an evening of networking and great conversations at the Business Afterhours Mixer hosted by <strong><a href="https://www.brownssocialhouse.com/stalbert"><span style="color:#000000\;">Browns SocialHouse-St. Albert</span></a><span style="color:#000000\;">.&nbsp\;</span></strong><br />\n<br />\nThis event provides an excellent opportunity for local business professionals\, entrepreneurs\, and community leaders to connect\, share ideas\, and build valuable relationships in a relaxed and casual atmosphere. Enjoy complimentary appetizers.<br />\n<br />\nSee you there!</span></span><br />\n&nbsp\;\n<div style="text-align: center\;">----------------------------------------------------------------------<br />\n<span style="font-size:16px\;"><span style="font-family:arial\;"><em><strong>Browns Socialhouse</strong> features a modern dining room and lounge plus a covered and heated outdoor patio which provides a true Socialhouse experience. Whether you are joining us for a business lunch\, an after-work cocktail\, or watching the game with friends\, this is the place to be in St. Albert.</em></span></span></div>\n
LOCATION:205-840 St. Albert Trail St. Albert\, AB T8N 3P8
UID:e.824.2233
SEQUENCE:3
DTSTAMP:20260422T085705Z
URL:https://business.stalbertchamber.com/events/details/business-afterhours-mixer-hosted-by-browns-socialhouse-2233
END:VEVENT

END:VCALENDAR
