BEGIN:VCALENDAR
VERSION:2.0
PRODID:-//ChamberMaster//Event Calendar 2.0//EN
METHOD:PUBLISH
X-PUBLISHED-TTL:P3D
REFRESH-INTERVAL:P3D
CALSCALE:GREGORIAN
BEGIN:VEVENT
DTSTART:20240425T223000Z
DTEND:20240426T003000Z
X-MICROSOFT-CDO-ALLDAYEVENT:FALSE
SUMMARY:Business After Hours - Central Social Hall
DESCRIPTION:Business After Hours Networking Event
X-ALT-DESC;FMTTYPE=text/html:<div style="text-align: center\;"><br />\n<strong><span style="font-size:20px\;">&nbsp\;Business After Hours Networking Event</span></strong></div>\n
LOCATION:525 St Albert Trail #280\, St. Albert\, AB T8N 4J8
UID:e.824.2081
SEQUENCE:3
DTSTAMP:20260420T082338Z
URL:https://business.stalbertchamber.com/events/details/business-after-hours-central-social-hall-2081
END:VEVENT

END:VCALENDAR
