BEGIN:VCALENDAR
VERSION:2.0
PRODID:-//ChamberMaster//Event Calendar 2.0//EN
METHOD:PUBLISH
X-PUBLISHED-TTL:P3D
REFRESH-INTERVAL:P3D
CALSCALE:GREGORIAN
BEGIN:VEVENT
DTSTART:20110217T003000Z
DTEND:20110217T020000Z
X-MICROSOFT-CDO-ALLDAYEVENT:FALSE
SUMMARY:Business After Hours - 02/2011
DESCRIPTION:Join us for Business After Hours\n\n	on\n\n	\n\n	Wednesday\, February 16\, 2011\n\n	5:30 pm - 7:00 pm\n\n	\n\n	The Vineyard Wine Market\n\n	#100\, 41 St. Thomas Street\n\n	\n\n	 \n\n\nCome together with your fellow members for \n\n\n\n              good conversation\n\n    \n\n                                   good food\n\n            \n\n                                                and excellent wine!\n\n\n\n\n\n\n\n\n\n$12.00 for members\n\n$15.00 for potential members
X-ALT-DESC;FMTTYPE=text/html:<p style="text-align: center">\n	<span style="font-size: 14px"><strong>Join us for Business After Hours</strong></span></p>\n<p style="text-align: center">\n	<span style="font-size: 14px">on<br />\n	<br />\n	Wednesday\, February 16\, 2011</span></p>\n<p style="text-align: center">\n	<span style="font-size: 14px">5:30 pm - 7:00 pm<br />\n	<br />\n	The Vineyard Wine Market<br />\n	#100\, 41 St. Thomas&nbsp\;Street</span><br />\n	<br />\n	&nbsp\;</p>\n<br />\n<span style="font-size: 14px">Come together with your fellow members for&nbsp\;<br />\n<br />\n&nbsp\;&nbsp\;&nbsp\;&nbsp\;&nbsp\;&nbsp\;&nbsp\;&nbsp\;&nbsp\;&nbsp\;&nbsp\;&nbsp\;&nbsp\; good conversation<br />\n&nbsp\;&nbsp\;&nbsp\;&nbsp\;<br />\n&nbsp\;&nbsp\;&nbsp\;&nbsp\;&nbsp\;&nbsp\;&nbsp\;&nbsp\;&nbsp\;&nbsp\;&nbsp\;&nbsp\;&nbsp\;&nbsp\;&nbsp\;&nbsp\;&nbsp\;&nbsp\;&nbsp\;&nbsp\;&nbsp\;&nbsp\;&nbsp\;&nbsp\;&nbsp\;&nbsp\;&nbsp\;&nbsp\;&nbsp\;&nbsp\;&nbsp\;&nbsp\;&nbsp\; &nbsp\;good food<br />\n&nbsp\;&nbsp\;&nbsp\;&nbsp\;&nbsp\;&nbsp\;&nbsp\;&nbsp\;&nbsp\;&nbsp\;&nbsp\;&nbsp\;<br />\n&nbsp\;&nbsp\;&nbsp\;&nbsp\;&nbsp\;&nbsp\;&nbsp\;&nbsp\;&nbsp\;&nbsp\;&nbsp\;&nbsp\;&nbsp\;&nbsp\;&nbsp\;&nbsp\;&nbsp\;&nbsp\;&nbsp\;&nbsp\;&nbsp\;&nbsp\;&nbsp\;&nbsp\;&nbsp\;&nbsp\;&nbsp\;&nbsp\;&nbsp\;&nbsp\;&nbsp\;&nbsp\;&nbsp\;&nbsp\;&nbsp\;&nbsp\;&nbsp\;&nbsp\;&nbsp\;&nbsp\;&nbsp\;&nbsp\; &nbsp\;&nbsp\;&nbsp\;&nbsp\; and excellent wine!<br />\n<br />\n<br />\n<br />\n<br />\n$12.00 for members<br />\n$15.00 for potential members</span><br />\n<br />\n<br />\n<br />\n
LOCATION:The Vineyard Wine Market #100\, 41 St. Thomas Street
UID:e.824.664
SEQUENCE:3
DTSTAMP:20260425T235829Z
URL:https://business.stalbertchamber.com/events/details/business-after-hours-02-2011-02-16-2011-664
END:VEVENT

END:VCALENDAR
