BEGIN:VCALENDAR
VERSION:2.0
PRODID:-//ChamberMaster//Event Calendar 2.0//EN
METHOD:PUBLISH
X-PUBLISHED-TTL:P3D
REFRESH-INTERVAL:P3D
CALSCALE:GREGORIAN
BEGIN:VEVENT
DTSTART:20240227T183000Z
DTEND:20240227T191500Z
X-MICROSOFT-CDO-ALLDAYEVENT:FALSE
SUMMARY:AWE Alberta Women Entrepreneurs- WEBINAR
DESCRIPTION:Join Alberta Women Entrepreneurs on February 27th\, 2024 for an online webinar discussing:\n\n	Resources and supports available to women entrepreneurs\n	How women entrepreneurs are influencing the economy\n	Upcoming programs to help you grow and build your business \n	Q&A
X-ALT-DESC;FMTTYPE=text/html:<em><span style="background:white\;"><span style="color:black\;"><span style="font-size:12.0pt\;">Join Alberta Women Entrepreneurs on February 27th\, 2024 for an online webinar discussing:</span></span></span></em>\n<ul>\n	<li style="color:black\;background:white\;list-style:&quot\;- &quot\;\;"><em><span style="font-size:12.0pt\;">Resources and supports available to women entrepreneurs</span></em></li>\n	<li style="color:black\;background:white\;list-style:&quot\;- &quot\;\;"><em><span style="font-size:12.0pt\;">How women entrepreneurs are influencing the economy</span></em></li>\n	<li style="color:black\;background:white\;list-style:&quot\;- &quot\;\;"><em><span style="font-size:12.0pt\;">Upcoming programs to help you grow and build your business&nbsp\;</span></em></li>\n	<li style="color:black\;background:white\;list-style:&quot\;- &quot\;\;"><em><span style="font-size:12.0pt\;">Q&amp\;A</span></em></li>\n</ul>\n
LOCATION:WEBINAR
UID:e.824.2063
SEQUENCE:3
DTSTAMP:20260421T011053Z
URL:https://business.stalbertchamber.com/events/details/awe-alberta-women-entrepreneurs-webinar-2063
END:VEVENT

END:VCALENDAR
