BEGIN:VCALENDAR
VERSION:2.0
PRODID:-//ChamberMaster//Event Calendar 2.0//EN
METHOD:PUBLISH
X-PUBLISHED-TTL:P3D
REFRESH-INTERVAL:P3D
CALSCALE:GREGORIAN
BEGIN:VEVENT
DTSTART:20111021T003000Z
DTEND:20111021T030000Z
X-MICROSOFT-CDO-ALLDAYEVENT:FALSE
SUMMARY:Awards of Distinction Ceremony sponsored by: ATB Financial - October 20\, 2011
DESCRIPTION:The St. Albert Chamber of Commerce\, with over 775 members\, hosts the celebration of business in St. Albert each October during Small Business Week. A big part of the celebration is the nomination of businesses in seven different categories for recognition awards. These nominees are judged\, and awards are presented at the Awards of Distinction Evening. This is a very prestigious affair\, where every nominee is acknowledged before the winners are announced. \n\n	\n\n	Award Categories\n\n	- Small Business\n\n	- Business to Business\n\n	- Marketing\n\n	- Outstanding Customer Service\n\n	- Young Entrepreneur\n\n	- Home Based Business\n\n	- Youth Work Experience\n\n	\n\n	About the Awards  \n\n	We are looking for St. Albert businesses that best represent the spirit and success of the City's business community. Businesses that excel in any or all of the award categories are encouraged to enter.\n\n	\n\n	Awards presented without nomination\n\n	Chair's Award - Presented at the discretion of the Chamber Chair\n\n	Pillar of Business - Presented periodically recoginzing long-tem contributions
X-ALT-DESC;FMTTYPE=text/html:<p style="margin-bottom: 0pt">\n	<span style="font-size: 12px"><span style="font-family: 'century gothic'\, 'sans-serif'\; color: #222222">The St. Albert Chamber of Commerce\, with over 775 members\, hosts the celebration of business in St. Albert each October during Small Business Week. A big part of the celebration is the nomination of businesses in seven different categories for recognition awards. These nominees are judged\, and awards are presented at the Awards of Distinction Evening. This is a very prestigious affair\, where every nominee is acknowledged before the winners are announced. </span><br />\n	<br />\n	<u><span style="font-family: 'lucida handwriting'\; color: #222222">Award Categories</span></u><br />\n	<span style="font-family: 'century gothic'\, 'sans-serif'\; color: #222222\; font-size: 4pt"><span style="font-size: 12px">- Small Business<br />\n	- Business to Business<br />\n	- Marketing<br />\n	- Outstanding Customer Service<br />\n	- Young Entrepreneur<br />\n	- Home Based Business<br />\n	- Youth Work Experience</span></span><br />\n	<br />\n	<u><span style="font-family: 'lucida handwriting'\; color: #222222">About the Awards&nbsp\; </span></u></span><br />\n	<span style="font-size: 12px"><span style="font-family: 'century gothic'\, 'sans-serif'\; color: #222222">We are looking for St. Albert businesses that best represent the spirit and success of the City&#39\;s business community. Businesses that excel in any or all of the award categories are encouraged to enter.<br />\n	<br />\n	<u><font face="Lucida Handwriting">Awards presented without nomination</font></u><br />\n	Chair&#39\;s Award - Presented at the discretion of the Chamber Chair<br />\n	Pillar of Business - Presented periodically recoginzing long-tem contributions</span></span><br />\n	<br />\n	&nbsp\;</p>\n
LOCATION:Arden Theatre St. Albert Place 5 St. Anne Street
UID:e.824.752
SEQUENCE:3
DTSTAMP:20260425T110002Z
URL:https://business.stalbertchamber.com/events/details/awards-of-distinction-ceremony-sponsored-by-atb-financial-october-20-2011-10-20-2011-752
END:VEVENT

END:VCALENDAR
