BEGIN:VCALENDAR
VERSION:2.0
PRODID:-//ChamberMaster//Event Calendar 2.0//EN
METHOD:PUBLISH
X-PUBLISHED-TTL:P3D
REFRESH-INTERVAL:P3D
CALSCALE:GREGORIAN
BEGIN:VEVENT
DTSTART;VALUE=DATE:20130605
DTEND;VALUE=DATE:20130606
TRANSP:TRANSPARENT
X-MICROSOFT-CDO-ALLDAYEVENT:TRUE
SUMMARY:Annual Golf Tournament - June 5\, 2013 SOLD OUT
DESCRIPTION:Congratulations to the winning team of this year's tournament - Canadian Western Bank\n\n\n\nWe had two other big winners amongst us at our tournament - Doug Kennedy from the Eagles who had a hole-in-one at hole #7\, winning himself $10\,000 from ATB Financial!\n\nAnd Marian Mocanu from Shelemey Insurance & Financial Planning who won the 50/50 draw worth $540.\n\nCongratulations to you both! \n\n\n\nCheck out our Facebook page for some great photos taken during the tournament!\n\nCLICK HERE!\n\n\n\nAnnual Chamber Golf Tournament - SOLD OUT\n\n\n\nAnnual Chamber Golf Tournament is held each year at the Sandpiper Golf & Country Club. The day begins with a pre-game BBQ Lunch sponsored by Ric's Grill\, St. Albert Inn & Suites and Claysmore Spring Water at 12:30 pm followed by a shotgun start at 1:30 pm. The format of the tournament is Texas scramble - best ball with lots of fun activities to participate in at each hole. Following the tournament there will be a delicious BBQ dinner at around 6:30 pm\, accompanied by presentations and awards.\n\n\n\nThis tournament is a great opportunity to gather a group of co-workers and participate in a fun\, team-building event.
X-ALT-DESC;FMTTYPE=text/html:<br />\n<span style="font-size:14px\;"><strong><span style="color:#000080\;"><span style="font-family: century gothic\,sans-serif\;">Congratulations to the winning team of this year&#39\;s tournament - Canadian Western Bank<br />\n<br />\nWe had two other big winners amongst us at our tournament - Doug Kennedy from the Eagles who had a hole-in-one at hole #7\, winning himself $10\,000 from ATB Financial!<br />\nAnd Marian Mocanu from Shelemey Insurance &amp\; Financial Planning who won the 50/50 draw worth $540.<br />\nCongratulations to you both! </span></span><br />\n<br />\nCheck out our Facebook page for some great photos taken during the tournament!</strong></span><br />\n<a href="https://www.facebook.com/media/set/?set=a.342021429258224.1073741836.111083029018733&amp\;type=1">CLICK HERE!</a><br />\n<br />\n<span style="font-size:14px\;"><strong><span style="color: rgb(0\, 112\, 192)\;"><span style="font-family: century gothic\,sans-serif\;">Annual Chamber Golf Tournament - </span></span><span style="color:#ff0000\;"><span style="font-family: century gothic\,sans-serif\;">SOLD OUT</span></span></strong></span><br />\n<br />\n<span style="font-size:14px\;"><span style="font-family: century gothic\,sans-serif\;">Annual Chamber Golf Tournament is held each year at the Sandpiper Golf &amp\; Country Club. The day begins with a pre-game BBQ Lunch sponsored by Ric&#39\;s Grill\, St. Albert Inn &amp\; Suites and Claysmore Spring Water at 12:30 pm followed by a shotgun start at 1:30 pm. The format of the tournament is Texas scramble - best ball with lots of fun activities to participate in at each hole. Following the tournament there will be a delicious BBQ dinner at around 6:30 pm\, accompanied by presentations and awards.<br />\n<br />\nThis tournament is a great opportunity to gather a group of co-workers and participate in a fun\, team-building event.</span></span><br />\n<br />\n
LOCATION:Sandpiper Golf & Country Club
UID:e.824.1247
SEQUENCE:3
DTSTAMP:20260420T083012Z
URL:https://business.stalbertchamber.com/events/details/annual-golf-tournament-june-5-2013-sold-out-06-05-2013-1247
END:VEVENT

END:VCALENDAR
