BEGIN:VCALENDAR
VERSION:2.0
PRODID:-//ChamberMaster//Event Calendar 2.0//EN
METHOD:PUBLISH
X-PUBLISHED-TTL:P3D
REFRESH-INTERVAL:P3D
CALSCALE:GREGORIAN
BEGIN:VEVENT
DTSTART:20120606T183000Z
DTEND:20120607T013000Z
X-MICROSOFT-CDO-ALLDAYEVENT:FALSE
SUMMARY:Annual Chamber Golf Tournament - June 6\, 2012
DESCRIPTION:Our Healthy Business Challenge is where the business community of St. Albert  can get out of the office  and participate in some friendly competition and team building. Your company earns points for every event that you participate in\, working towards winning the Grand Trophy presented at the 2013 Chamber Gala.\n\n\n\nHealthy Business Challenge Mission Statement\n\nTo cultivate a healthier workforce\, stronger team spirit and proud involvement in our community\n\n\n\nDon't miss out on your opportunity to foster employee interaction\, teamwork\, morale\, pride and health and wellness\, this is the event to have fun!\n\n\n\nTo register\, please Click Here
X-ALT-DESC;FMTTYPE=text/html:<span _fck_bookmark="1" style="display: none">&nbsp\;</span><span _fck_bookmark="1" style="display: none">&nbsp\;</span><br />\nOur Healthy Business Challenge is where the business community of St. Albert&nbsp\; can get out of the office&nbsp\; and participate in some friendly competition and team building. Your company earns points for every event that you participate in\, working towards winning the Grand Trophy presented at the 2013 Chamber Gala.<br />\n<br />\n<strong>Healthy Business Challenge Mission Statement</strong><br />\n<em>To cultivate a healthier workforce\, stronger team spirit and proud involvement in our community</em><br />\n<br />\nDon&#39\;t miss out on your opportunity to foster employee interaction\, teamwork\, morale\, pride and health and wellness\, this is the event to&nbsp\;have&nbsp\;fun!<br />\n<br />\nTo register\, please&nbsp\;<a href="http://cloud.chambermaster.com/userfiles/UserFiles/chambers/824/File/2012GolfRegistrationForm3.pdf">Click Here</a><br />\n<div id="cm_event_fees">\n	<div class="cm_editor_fix">\n		&nbsp\;</div>\n</div>\n
LOCATION:Sandpiper Golf & Country Club 251 - 153 Avenue NE Edmonton
UID:e.824.789
SEQUENCE:3
DTSTAMP:20260425T010633Z
URL:https://business.stalbertchamber.com/events/details/annual-chamber-golf-tournament-june-6-2012-06-06-2012-789
END:VEVENT

END:VCALENDAR
