BEGIN:VCALENDAR
VERSION:2.0
PRODID:-//ChamberMaster//Event Calendar 2.0//EN
METHOD:PUBLISH
X-PUBLISHED-TTL:P3D
REFRESH-INTERVAL:P3D
CALSCALE:GREGORIAN
BEGIN:VEVENT
DTSTART;VALUE=DATE:20110512
DTEND;VALUE=DATE:20110513
TRANSP:TRANSPARENT
X-MICROSOFT-CDO-ALLDAYEVENT:TRUE
SUMMARY:Almost Annual Golf Tournament - 2011
DESCRIPTION:Our Healthy Business Challenge is where the business community of St. Albert  can get out of the office  and participate in some friendly competition and team building. Your company earns points for every event that you participate in\, working towards winning the Grand Trophy presented at the 2012 Chamber Gala.\n\n\n\nHealthy Business Challenge Mission Statement\n\nTo cultivate a healthier workforce\, stronger team spirit and proud involvement in our community\n\n\n\nDon't miss out on your opportunity to foster employee interaction\, teamwork\, morale\, pride and health and wellness\, this is the event to have fun!\n\n\n\nEvent Location Sandpiper Golf & Country Club\n\n251 - 153 Avenue NE\n\nEdmonton\n\n	Date/Time Information Thursday\, May 12\n\n	BBQ Lunch:        11:00 am    Sponsored by Lube City\n\n	Shotgun Start:    12:00 pm\n\n	Texas Scramble - Best Ball\n\n	BBQ Dinner:        5:30 pm\n\n	Presentation & Awards: After Golf\n\n	Each golfer will receive a bottle of wine provided by Unwined Wine Merchants of St. Albert\n\n	    \n\n	Contact Information\n	\n		Debbie Grant Events Manager \n\n		(780) 458-2833 fax: (780) 458-6515\n	\n		events@stalbertchamber.com \n\n		 \n\n\n	Fees/Admission\n	\n		Early Registration - Till May 1st - $100.00\n\n		Late Registration - After May 1st - $120.00\n\n		Dinner Only - $30.00\n\n		Entry Fee Includes:  Green fees\, Power Cart\, BBQ lunch & dinner\, bottle of wine\n\n		Winning Trophy\n\n		\n\n		To register for golf Click Here !
X-ALT-DESC;FMTTYPE=text/html:Our Healthy Business Challenge is where the business community of St. Albert&nbsp\; can get out of the office&nbsp\; and participate in some friendly competition and team building. Your company earns points for every event that you participate in\, working towards winning the Grand Trophy presented at the 2012 Chamber Gala.<br />\n<br />\n<strong>Healthy Business Challenge Mission Statement</strong><br />\n<em>To cultivate a healthier workforce\, stronger team spirit and proud involvement in our community</em><br />\n<br />\nDon&#39\;t miss out on your opportunity to foster employee interaction\, teamwork\, morale\, pride and health and wellness\, this is the event to&nbsp\;have&nbsp\;fun!<br />\n<br />\n<strong>Event&nbsp\;Location</strong> <span class="cm_editor_fix">Sandpiper Golf &amp\; Country Club<br />\n251 - 153 Avenue NE<br />\nEdmonton</span>\n<div id="cm_event_time">\n	<b>Date/Time&nbsp\;Information</b> <span class="cm_editor_fix">Thursday\, May 12<br />\n	BBQ Lunch:&nbsp\;&nbsp\;&nbsp\;&nbsp\;&nbsp\;&nbsp\;&nbsp\;&nbsp\;11:00 am&nbsp\;&nbsp\;&nbsp\;&nbsp\;Sponsored by Lube City<br />\n	Shotgun Start:&nbsp\;&nbsp\;&nbsp\;&nbsp\;12:00 pm<br />\n	Texas Scramble - Best Ball<br />\n	BBQ Dinner:&nbsp\;&nbsp\;&nbsp\;&nbsp\;&nbsp\;&nbsp\;&nbsp\;&nbsp\;5:30 pm<br />\n	Presentation &amp\; Awards: After Golf<br />\n	Each golfer will receive a bottle of wine provided by Unwined Wine Merchants of St. Albert<br />\n	&nbsp\;&nbsp\;&nbsp\;&nbsp\;</span></div>\n<div id="cm_event_contact_info">\n	<b>Contact&nbsp\;Information</b>\n	<div class="cm_editor_fix">\n		<span>Debbie Grant Events Manager&nbsp\;<br />\n		(780) 458-2833 fax: (780) 458-6515</span></div>\n	<div>\n		<span><a href="mailto:events@stalbertchamber.com">events@stalbertchamber.com</a> </span><br />\n		&nbsp\;</div>\n</div>\n<div id="cm_event_fees">\n	<b>Fees/Admission</b>\n	<div class="cm_editor_fix">\n		<span>Early Registration - Till May 1st - $100.00<br />\n		Late Registration - After May 1st - $120.00<br />\n		Dinner&nbsp\;Only - $30.00<br />\n		Entry Fee Includes:&nbsp\; Green fees\, Power Cart\, BBQ lunch &amp\; dinner\, bottle of wine<br />\n		Winning Trophy<br />\n		<br />\n		To register&nbsp\;for golf <a href="http://cloud.chambermaster.com/userfiles/UserFiles/chambers/824/File/2011%20Golf%20Registration%20Form(1).pdf">Click Here</a>&nbsp\;!</span></div>\n</div>\n
LOCATION:Sandpiper Golf & Country Club 251 - 153 Avenue NE Edmonton
UID:e.824.38
SEQUENCE:3
DTSTAMP:20260425T204001Z
URL:https://business.stalbertchamber.com/events/details/almost-annual-golf-tournament-2011-05-12-2011-38
END:VEVENT

END:VCALENDAR
