BEGIN:VCALENDAR
VERSION:2.0
PRODID:-//ChamberMaster//Event Calendar 2.0//EN
METHOD:PUBLISH
X-PUBLISHED-TTL:P3D
REFRESH-INTERVAL:P3D
CALSCALE:GREGORIAN
BEGIN:VEVENT
DTSTART:20131016T003000Z
DTEND:20131016T030000Z
X-MICROSOFT-CDO-ALLDAYEVENT:FALSE
SUMMARY:All Candidates Forum - October 15\, 2013
DESCRIPTION:Be informed\, vote\, and be heard!\n\n	\n\n	 \n\n	Meet the candidates running for\n\n	\n\n	Mayor and Councillor\n\n	\n\n	in the October 21st civic election.\n\n	\n\n	\n\n	Candidates will be available for one-on-one\n\n	\n\n	conversations after question period.\n\n	\n\n	\n\n	\n\n	Questions to candidates can be submitted\n\n	\n\n	at the Forum\,\n\n	\n\n	or in advance to the\n\n	\n\n	St. Albert and District Chamber of Commerce\n\n	\n\n	at chamber@stalbertchamber.com
X-ALT-DESC;FMTTYPE=text/html:<h3 style="text-align: center\;">\n	<br />\n	<span style="font-size: 16px\;"><span style="font-family: arial\;"><span style="font-size: 20px\;">Be informed\, vote\, and be heard!</span></span></span><br />\n	<br />\n	&nbsp\;</h3>\n<p style="text-align: center\;">\n	<span style="font-size: 20px\;"><span style="font-family: arial\;">Meet the candidates running for<br />\n	<br />\n	Mayor and Councillor<br />\n	<br />\n	in the October 21st civic election.<br />\n	<br />\n	<br />\n	<span style="font-size: 18px\;">Candidates will be available for one-on-one<br />\n	<br />\n	conversations after question period.</span><br />\n	<br />\n	<br />\n	<br />\n	<span style="font-size: 18px\;">Questions to candidates can be submitted<br />\n	<br />\n	at the Forum\,<br />\n	<br />\n	or in advance to the<br />\n	<br />\n	St. Albert and District Chamber of Commerce<br />\n	<br />\n	at <a href="mailto:chamber@stalbertchamber.com?subject=Candidate%20Questions">chamber@stalbertchamber.com</a></span><br />\n	<br />\n	&nbsp\;</span></span></p>\n
LOCATION:St. Albert Inn & Suites 156 St. Albert Trail Click here for Map
UID:e.824.1264
SEQUENCE:3
DTSTAMP:20260420T032143Z
URL:https://business.stalbertchamber.com/events/details/all-candidates-forum-october-15-2013-10-15-2013-1264
END:VEVENT

END:VCALENDAR
